| Back to Multiple platform build/check report for BioC 3.9 |
|
This page was generated on 2019-04-09 12:20:49 -0400 (Tue, 09 Apr 2019).
| Package 1455/1703 | Hostname | OS / Arch | INSTALL | BUILD | CHECK | BUILD BIN | ||||||
| SemDist 1.17.0 Ian Gonzalez
| malbec2 | Linux (Ubuntu 18.04.2 LTS) / x86_64 | OK | OK | OK | |||||||
| tokay2 | Windows Server 2012 R2 Standard / x64 | OK | OK | OK | [ OK ] | |||||||
| celaya2 | OS X 10.11.6 El Capitan / x86_64 | OK | OK | OK | OK | |||||||
| merida2 | OS X 10.11.6 El Capitan / x86_64 | OK | OK | OK | OK |
| Package: SemDist |
| Version: 1.17.0 |
| Command: rm -rf SemDist.buildbin-libdir && mkdir SemDist.buildbin-libdir && C:\Users\biocbuild\bbs-3.9-bioc\R\bin\R.exe CMD INSTALL --merge-multiarch --build --library=SemDist.buildbin-libdir SemDist_1.17.0.tar.gz |
| StartedAt: 2019-04-09 08:56:34 -0400 (Tue, 09 Apr 2019) |
| EndedAt: 2019-04-09 08:56:57 -0400 (Tue, 09 Apr 2019) |
| EllapsedTime: 23.1 seconds |
| RetCode: 0 |
| Status: OK |
| PackageFile: SemDist_1.17.0.zip |
| PackageFileSize: 1.947 MiB |
##############################################################################
##############################################################################
###
### Running command:
###
### rm -rf SemDist.buildbin-libdir && mkdir SemDist.buildbin-libdir && C:\Users\biocbuild\bbs-3.9-bioc\R\bin\R.exe CMD INSTALL --merge-multiarch --build --library=SemDist.buildbin-libdir SemDist_1.17.0.tar.gz
###
##############################################################################
##############################################################################
install for i386
* installing *source* package 'SemDist' ...
** R
** data
** inst
** byte-compile and prepare package for lazy loading
** help
*** installing help indices
converting help for package 'SemDist'
finding HTML links ... done
IAccr html
RUMIcurve html
computeIA html
findRUMI html
parentcnt html
termcnt html
** building package indices
** installing vignettes
** testing if installed package can be loaded from temporary location
** testing if installed package can be loaded from final location
** testing if installed package keeps a record of temporary installation path
install for x64
* installing *source* package 'SemDist' ...
** testing if installed package can be loaded
* MD5 sums
packaged installation of 'SemDist' as SemDist_1.17.0.zip
* DONE (SemDist)