| Back to Multiple platform build/check report for BioC 3.9 |
|
This page was generated on 2019-04-09 12:23:10 -0400 (Tue, 09 Apr 2019).
| Package 1493/1703 | Hostname | OS / Arch | INSTALL | BUILD | CHECK | BUILD BIN | ||||||
| SIMAT 1.15.1 M. R. Nezami Ranjbar
| malbec2 | Linux (Ubuntu 18.04.2 LTS) / x86_64 | OK | OK | OK | |||||||
| tokay2 | Windows Server 2012 R2 Standard / x64 | [ OK ] | OK | OK | OK | |||||||
| celaya2 | OS X 10.11.6 El Capitan / x86_64 | OK | OK | OK | OK | |||||||
| merida2 | OS X 10.11.6 El Capitan / x86_64 | OK | OK | OK | OK |
| Package: SIMAT |
| Version: 1.15.1 |
| Command: C:\cygwin\bin\curl.exe -O https://malbec2.bioconductor.org/BBS/3.9/bioc/src/contrib/SIMAT_1.15.1.tar.gz && rm -rf SIMAT.buildbin-libdir && mkdir SIMAT.buildbin-libdir && C:\Users\biocbuild\bbs-3.9-bioc\R\bin\R.exe CMD INSTALL --merge-multiarch --build --library=SIMAT.buildbin-libdir SIMAT_1.15.1.tar.gz && C:\Users\biocbuild\bbs-3.9-bioc\R\bin\R.exe CMD INSTALL SIMAT_1.15.1.zip && rm SIMAT_1.15.1.tar.gz SIMAT_1.15.1.zip |
| StartedAt: 2019-04-08 19:44:30 -0400 (Mon, 08 Apr 2019) |
| EndedAt: 2019-04-08 19:45:20 -0400 (Mon, 08 Apr 2019) |
| EllapsedTime: 50.2 seconds |
| RetCode: 0 |
| Status: OK |
##############################################################################
##############################################################################
###
### Running command:
###
### C:\cygwin\bin\curl.exe -O https://malbec2.bioconductor.org/BBS/3.9/bioc/src/contrib/SIMAT_1.15.1.tar.gz && rm -rf SIMAT.buildbin-libdir && mkdir SIMAT.buildbin-libdir && C:\Users\biocbuild\bbs-3.9-bioc\R\bin\R.exe CMD INSTALL --merge-multiarch --build --library=SIMAT.buildbin-libdir SIMAT_1.15.1.tar.gz && C:\Users\biocbuild\bbs-3.9-bioc\R\bin\R.exe CMD INSTALL SIMAT_1.15.1.zip && rm SIMAT_1.15.1.tar.gz SIMAT_1.15.1.zip
###
##############################################################################
##############################################################################
% Total % Received % Xferd Average Speed Time Time Time Current
Dload Upload Total Spent Left Speed
0 0 0 0 0 0 0 0 --:--:-- --:--:-- --:--:-- 0
100 920k 100 920k 0 0 12.4M 0 --:--:-- --:--:-- --:--:-- 13.8M
install for i386
* installing *source* package 'SIMAT' ...
** R
** data
** inst
** byte-compile and prepare package for lazy loading
** help
*** installing help indices
converting help for package 'SIMAT'
finding HTML links ... done
Library html
RItable html
Run html
SIMAT-package html
Targets html
getEIC html
getPeak html
getPeakScore html
getRI html
getRIStandard html
getScore html
getTarget html
getTargetTable html
optFrag html
plotEIC html
plotTIC html
putTargetTable html
readCDF html
readMSL html
target.table html
writeMSL html
writeResult html
** building package indices
** installing vignettes
** testing if installed package can be loaded from temporary location
** testing if installed package can be loaded from final location
** testing if installed package keeps a record of temporary installation path
install for x64
* installing *source* package 'SIMAT' ...
** testing if installed package can be loaded
* MD5 sums
packaged installation of 'SIMAT' as SIMAT_1.15.1.zip
* DONE (SIMAT)
* installing to library 'C:/Users/biocbuild/bbs-3.9-bioc/R/library'
package 'SIMAT' successfully unpacked and MD5 sums checked