| Back to Multiple platform build/check report for BioC 3.9 |
|
This page was generated on 2019-04-09 12:55:18 -0400 (Tue, 09 Apr 2019).
| Package 1492/1703 | Hostname | OS / Arch | INSTALL | BUILD | CHECK | BUILD BIN | ||||||
| SIM 1.53.0 Renee X. de Menezes
| malbec2 | Linux (Ubuntu 18.04.2 LTS) / x86_64 | OK | OK | OK | |||||||
| tokay2 | Windows Server 2012 R2 Standard / x64 | OK | OK | OK | OK | |||||||
| celaya2 | OS X 10.11.6 El Capitan / x86_64 | OK | [ OK ] | OK | OK | |||||||
| merida2 | OS X 10.11.6 El Capitan / x86_64 | OK | OK | OK | OK |
| Package: SIM |
| Version: 1.53.0 |
| Command: /Library/Frameworks/R.framework/Versions/Current/Resources/bin/R CMD build --keep-empty-dirs --no-resave-data SIM |
| StartedAt: 2019-04-08 19:40:49 -0400 (Mon, 08 Apr 2019) |
| EndedAt: 2019-04-08 19:41:45 -0400 (Mon, 08 Apr 2019) |
| EllapsedTime: 56.6 seconds |
| RetCode: 0 |
| Status: OK |
| PackageFile: SIM_1.53.0.tar.gz |
| PackageFileSize: 363.6 KiB |
############################################################################## ############################################################################## ### ### Running command: ### ### /Library/Frameworks/R.framework/Versions/Current/Resources/bin/R CMD build --keep-empty-dirs --no-resave-data SIM ### ############################################################################## ############################################################################## * checking for file ‘SIM/DESCRIPTION’ ... OK * preparing ‘SIM’: * checking DESCRIPTION meta-information ... OK * cleaning src * installing the package to build vignettes * creating vignettes ... OK * cleaning src * checking for LF line-endings in source and make files and shell scripts * checking for empty or unneeded directories * looking to see if a ‘data/datalist’ file should be added * building ‘SIM_1.53.0.tar.gz’