| Back to Multiple platform build/check report for BioC 3.9 | 
 | 
This page was generated on 2019-04-09 13:37:22 -0400 (Tue, 09 Apr 2019).
| Package 1434/1703 | Hostname | OS / Arch | INSTALL | BUILD | CHECK | BUILD BIN | ||||||
| SCBN 1.1.1 Yan Zhou 
 | malbec2 | Linux (Ubuntu 18.04.2 LTS) / x86_64 | OK | OK | WARNINGS |  | ||||||
| tokay2 | Windows Server 2012 R2 Standard / x64 | OK | OK | WARNINGS | OK |  | ||||||
| celaya2 | OS X 10.11.6 El Capitan / x86_64 | OK | OK | WARNINGS | OK |  | ||||||
| merida2 | OS X 10.11.6 El Capitan / x86_64 | OK | OK | WARNINGS | [ OK ] | 
| Package: SCBN | 
| Version: 1.1.1 | 
| Command: rm -rf SCBN.buildbin-libdir && mkdir SCBN.buildbin-libdir && /Users/biocbuild/BBS/utils/build-universal.sh SCBN_1.1.1.tar.gz /Library/Frameworks/R.framework/Versions/Current/Resources/bin/R SCBN.buildbin-libdir | 
| StartedAt: 2019-04-09 06:26:16 -0400 (Tue, 09 Apr 2019) | 
| EndedAt: 2019-04-09 06:27:36 -0400 (Tue, 09 Apr 2019) | 
| EllapsedTime: 79.2 seconds | 
| RetCode: 0 | 
| Status: OK | 
| PackageFile: SCBN_1.1.1.tgz | 
| PackageFileSize: 691.3 KiB | 
############################################################################## ############################################################################## ### ### Running command: ### ### rm -rf SCBN.buildbin-libdir && mkdir SCBN.buildbin-libdir && /Users/biocbuild/BBS/utils/build-universal.sh SCBN_1.1.1.tar.gz /Library/Frameworks/R.framework/Versions/Current/Resources/bin/R SCBN.buildbin-libdir ### ############################################################################## ############################################################################## >>>>>>> >>>>>>> INSTALLATION WITH 'R CMD INSTALL --preclean --no-multiarch --library=SCBN.buildbin-libdir SCBN_1.1.1.tar.gz' >>>>>>> * installing *source* package ‘SCBN’ ... ** R ** data *** moving datasets to lazyload DB ** inst ** byte-compile and prepare package for lazy loading ** help *** installing help indices ** building package indices ** installing vignettes ** testing if installed package can be loaded * DONE (SCBN)