| Back to Multiple platform build/check report for BioC 3.9 |
|
This page was generated on 2019-04-09 11:55:19 -0400 (Tue, 09 Apr 2019).
| Package 1421/1703 | Hostname | OS / Arch | INSTALL | BUILD | CHECK | BUILD BIN | ||||||
| SAGx 1.57.0 Per Broberg,
| malbec2 | Linux (Ubuntu 18.04.2 LTS) / x86_64 | OK | OK | OK | |||||||
| tokay2 | Windows Server 2012 R2 Standard / x64 | OK | OK | OK | [ OK ] | |||||||
| celaya2 | OS X 10.11.6 El Capitan / x86_64 | OK | OK | OK | OK | |||||||
| merida2 | OS X 10.11.6 El Capitan / x86_64 | OK | OK | OK | OK |
| Package: SAGx |
| Version: 1.57.0 |
| Command: rm -rf SAGx.buildbin-libdir && mkdir SAGx.buildbin-libdir && C:\Users\biocbuild\bbs-3.9-bioc\R\bin\R.exe CMD INSTALL --merge-multiarch --build --library=SAGx.buildbin-libdir SAGx_1.57.0.tar.gz |
| StartedAt: 2019-04-09 08:54:35 -0400 (Tue, 09 Apr 2019) |
| EndedAt: 2019-04-09 08:54:57 -0400 (Tue, 09 Apr 2019) |
| EllapsedTime: 22.6 seconds |
| RetCode: 0 |
| Status: OK |
| PackageFile: SAGx_1.57.0.zip |
| PackageFileSize: 514.5 KiB |
##############################################################################
##############################################################################
###
### Running command:
###
### rm -rf SAGx.buildbin-libdir && mkdir SAGx.buildbin-libdir && C:\Users\biocbuild\bbs-3.9-bioc\R\bin\R.exe CMD INSTALL --merge-multiarch --build --library=SAGx.buildbin-libdir SAGx_1.57.0.tar.gz
###
##############################################################################
##############################################################################
install for i386
* installing *source* package 'SAGx' ...
** libs
C:/Rtools/mingw_32/bin/gcc -I"C:/Users/BIOCBU˜1/BBS-3˜1.9-B/R/include" -DNDEBUG -I"C:/extsoft/include" -O3 -Wall -std=gnu99 -mtune=generic -c minigsea.c -o minigsea.o
minigsea.c: In function 'MiniGSEA':
minigsea.c:8:12: warning: variable 'k' set but not used [-Wunused-but-set-variable]
int i,j,k,I;
^
C:/Rtools/mingw_32/bin/gcc -I"C:/Users/BIOCBU˜1/BBS-3˜1.9-B/R/include" -DNDEBUG -I"C:/extsoft/include" -O3 -Wall -std=gnu99 -mtune=generic -c newboot.c -o newboot.o
C:/Rtools/mingw_32/bin/gcc -I"C:/Users/BIOCBU˜1/BBS-3˜1.9-B/R/include" -DNDEBUG -I"C:/extsoft/include" -O3 -Wall -std=gnu99 -mtune=generic -c samrocNboot.c -o samrocNboot.o
C:/Rtools/mingw_32/bin/gcc -shared -s -static-libgcc -o SAGx.dll tmp.def minigsea.o newboot.o samrocNboot.o -LC:/extsoft/lib/i386 -LC:/extsoft/lib -LC:/Users/BIOCBU˜1/BBS-3˜1.9-B/R/bin/i386 -lR
installing to C:/Users/biocbuild/bbs-3.9-bioc/meat/SAGx.buildbin-libdir/00LOCK-SAGx/00new/SAGx/libs/i386
** R
** inst
** byte-compile and prepare package for lazy loading
** help
*** installing help indices
converting help for package 'SAGx'
finding HTML links ... done
Fstat html
GSEA.mean.t html
JT.test html
R2BASE html
R2mim html
Xprep html
Xprep.resid html
clin2mim html
cluster.q html
estimatep0 html
fetchSignal html
firstpass html
fom html
fp.fn html
gap html
list.experiments html
list.intersection.p html
mat2TeX html
myclus html
normalise html
one.probeset.per.gene html
outlier html
p0.mom html
pava.fdr html
pava html
rank.genes html
rank.trend html
rsd.test html
samroc.result-class html
samrocn html
samrocnboot html
union.of.pways html
** building package indices
** installing vignettes
** testing if installed package can be loaded from temporary location
** testing if installed package can be loaded from final location
** testing if installed package keeps a record of temporary installation path
install for x64
* installing *source* package 'SAGx' ...
** libs
C:/Rtools/mingw_64/bin/gcc -I"C:/Users/BIOCBU˜1/BBS-3˜1.9-B/R/include" -DNDEBUG -I"C:/extsoft/include" -O2 -Wall -std=gnu99 -mtune=generic -c minigsea.c -o minigsea.o
minigsea.c: In function 'MiniGSEA':
minigsea.c:8:12: warning: variable 'k' set but not used [-Wunused-but-set-variable]
int i,j,k,I;
^
C:/Rtools/mingw_64/bin/gcc -I"C:/Users/BIOCBU˜1/BBS-3˜1.9-B/R/include" -DNDEBUG -I"C:/extsoft/include" -O2 -Wall -std=gnu99 -mtune=generic -c newboot.c -o newboot.o
C:/Rtools/mingw_64/bin/gcc -I"C:/Users/BIOCBU˜1/BBS-3˜1.9-B/R/include" -DNDEBUG -I"C:/extsoft/include" -O2 -Wall -std=gnu99 -mtune=generic -c samrocNboot.c -o samrocNboot.o
C:/Rtools/mingw_64/bin/gcc -shared -s -static-libgcc -o SAGx.dll tmp.def minigsea.o newboot.o samrocNboot.o -LC:/extsoft/lib/x64 -LC:/extsoft/lib -LC:/Users/BIOCBU˜1/BBS-3˜1.9-B/R/bin/x64 -lR
installing to C:/Users/biocbuild/bbs-3.9-bioc/meat/SAGx.buildbin-libdir/SAGx/libs/x64
** testing if installed package can be loaded
* MD5 sums
packaged installation of 'SAGx' as SAGx_1.57.0.zip
* DONE (SAGx)