| Back to Multiple platform build/check report for BioC 3.9 | 
 | 
This page was generated on 2019-04-09 13:30:45 -0400 (Tue, 09 Apr 2019).
| Package 1388/1703 | Hostname | OS / Arch | INSTALL | BUILD | CHECK | BUILD BIN | ||||||
| Rqc 1.17.3 Welliton Souza 
 | malbec2 | Linux (Ubuntu 18.04.2 LTS) / x86_64 | OK | OK | OK |  | ||||||
| tokay2 | Windows Server 2012 R2 Standard / x64 | OK | OK | TIMEOUT | OK | |||||||
| celaya2 | OS X 10.11.6 El Capitan / x86_64 | OK | OK | OK | OK |  | ||||||
| merida2 | OS X 10.11.6 El Capitan / x86_64 | OK | OK | OK | [ OK ] | 
| Package: Rqc | 
| Version: 1.17.3 | 
| Command: rm -rf Rqc.buildbin-libdir && mkdir Rqc.buildbin-libdir && /Users/biocbuild/BBS/utils/build-universal.sh Rqc_1.17.3.tar.gz /Library/Frameworks/R.framework/Versions/Current/Resources/bin/R Rqc.buildbin-libdir | 
| StartedAt: 2019-04-09 06:22:36 -0400 (Tue, 09 Apr 2019) | 
| EndedAt: 2019-04-09 06:23:42 -0400 (Tue, 09 Apr 2019) | 
| EllapsedTime: 66.1 seconds | 
| RetCode: 0 | 
| Status: OK | 
| PackageFile: Rqc_1.17.3.tgz | 
| PackageFileSize: 1.604 MiB | 
############################################################################## ############################################################################## ### ### Running command: ### ### rm -rf Rqc.buildbin-libdir && mkdir Rqc.buildbin-libdir && /Users/biocbuild/BBS/utils/build-universal.sh Rqc_1.17.3.tar.gz /Library/Frameworks/R.framework/Versions/Current/Resources/bin/R Rqc.buildbin-libdir ### ############################################################################## ############################################################################## >>>>>>> >>>>>>> INSTALLATION WITH 'R CMD INSTALL --preclean --no-multiarch --library=Rqc.buildbin-libdir Rqc_1.17.3.tar.gz' >>>>>>> * installing *source* package ‘Rqc’ ... ** libs clang++ -std=gnu++11 -I"/Library/Frameworks/R.framework/Resources/include" -DNDEBUG -I"/Library/Frameworks/R.framework/Versions/3.6/Resources/library/Rcpp/include" -I/usr/local/include -fPIC -Wall -g -O2 -c RRDNA.cpp -o RRDNA.o clang++ -std=gnu++11 -I"/Library/Frameworks/R.framework/Resources/include" -DNDEBUG -I"/Library/Frameworks/R.framework/Versions/3.6/Resources/library/Rcpp/include" -I/usr/local/include -fPIC -Wall -g -O2 -c RcppExports.cpp -o RcppExports.o clang++ -std=gnu++11 -dynamiclib -Wl,-headerpad_max_install_names -undefined dynamic_lookup -single_module -multiply_defined suppress -L/Library/Frameworks/R.framework/Resources/lib -L/usr/local/lib -o Rqc.so RRDNA.o RcppExports.o -F/Library/Frameworks/R.framework/.. -framework R -Wl,-framework -Wl,CoreFoundation installing to /Users/biocbuild/bbs-3.9-bioc/meat/Rqc.buildbin-libdir/Rqc/libs ** R ** inst ** byte-compile and prepare package for lazy loading ** help *** installing help indices ** building package indices ** installing vignettes ** testing if installed package can be loaded * DONE (Rqc) >>>>>>> >>>>>>> FIXING LINKS FOR Rqc.buildbin-libdir/Rqc/libs//Rqc.so >>>>>>> install_name_tool -change "/usr/local/lib/libgcc_s.1.dylib" "/Library/Frameworks/R.framework/Versions/3.6/Resources/lib/libgcc_s.1.dylib" "Rqc.buildbin-libdir/Rqc/libs//Rqc.so" install_name_tool -change "/usr/local/lib/libgfortran.3.dylib" "/Library/Frameworks/R.framework/Versions/3.6/Resources/lib/libgfortran.3.dylib" "Rqc.buildbin-libdir/Rqc/libs//Rqc.so" install_name_tool -change "/usr/local/lib/libreadline.5.2.dylib" "/Library/Frameworks/R.framework/Versions/3.6/Resources/lib/libreadline.5.2.dylib" "Rqc.buildbin-libdir/Rqc/libs//Rqc.so" install_name_tool -change "/usr/local/lib/libreadline.dylib" "/Library/Frameworks/R.framework/Versions/3.6/Resources/lib/libreadline.dylib" "Rqc.buildbin-libdir/Rqc/libs//Rqc.so" install_name_tool -change "/usr/local/lib/libquadmath.0.dylib" "/Library/Frameworks/R.framework/Versions/3.6/Resources/lib/libquadmath.0.dylib" "Rqc.buildbin-libdir/Rqc/libs//Rqc.so"