| Back to Multiple platform build/check report for BioC 3.9 | 
 | 
This page was generated on 2019-04-09 12:55:41 -0400 (Tue, 09 Apr 2019).
| Package 1386/1703 | Hostname | OS / Arch | INSTALL | BUILD | CHECK | BUILD BIN | ||||||
| RpsiXML 2.25.0 Jitao David Zhang 
 | malbec2 | Linux (Ubuntu 18.04.2 LTS) / x86_64 | OK | OK | OK |  | ||||||
| tokay2 | Windows Server 2012 R2 Standard / x64 | OK | OK | OK | OK |  | ||||||
| celaya2 | OS X 10.11.6 El Capitan / x86_64 | OK | OK | OK | [ OK ] |  | ||||||
| merida2 | OS X 10.11.6 El Capitan / x86_64 | OK | OK | OK | OK | 
| Package: RpsiXML | 
| Version: 2.25.0 | 
| Command: rm -rf RpsiXML.buildbin-libdir && mkdir RpsiXML.buildbin-libdir && /Users/biocbuild/BBS/utils/build-universal.sh RpsiXML_2.25.0.tar.gz /Library/Frameworks/R.framework/Versions/Current/Resources/bin/R RpsiXML.buildbin-libdir | 
| StartedAt: 2019-04-09 07:41:21 -0400 (Tue, 09 Apr 2019) | 
| EndedAt: 2019-04-09 07:41:57 -0400 (Tue, 09 Apr 2019) | 
| EllapsedTime: 35.5 seconds | 
| RetCode: 0 | 
| Status: OK | 
| PackageFile: RpsiXML_2.25.0.tgz | 
| PackageFileSize: 2.965 MiB | 
############################################################################## ############################################################################## ### ### Running command: ### ### rm -rf RpsiXML.buildbin-libdir && mkdir RpsiXML.buildbin-libdir && /Users/biocbuild/BBS/utils/build-universal.sh RpsiXML_2.25.0.tar.gz /Library/Frameworks/R.framework/Versions/Current/Resources/bin/R RpsiXML.buildbin-libdir ### ############################################################################## ############################################################################## >>>>>>> >>>>>>> INSTALLATION WITH 'R CMD INSTALL --preclean --no-multiarch --library=RpsiXML.buildbin-libdir RpsiXML_2.25.0.tar.gz' >>>>>>> * installing *source* package ‘RpsiXML’ ... ** using staged installation ** R ** inst ** byte-compile and prepare package for lazy loading No methods found in package ‘Biobase’ for request: ‘listlen’ when loading ‘RpsiXML’ No methods found in package ‘annotate’ for requests: ‘pubmed’, ‘buildPubMedAbst’ when loading ‘RpsiXML’ Note: in method for ‘head’ with signature ‘x="ANY"’: expanding the signature to include omitted arguments in definition: x = "missing" Note: in method for ‘tail’ with signature ‘x="ANY"’: expanding the signature to include omitted arguments in definition: x = "missing" ** help *** installing help indices ** building package indices ** installing vignettes ** testing if installed package can be loaded from temporary location No methods found in package ‘Biobase’ for request: ‘listlen’ when loading ‘RpsiXML’ No methods found in package ‘annotate’ for requests: ‘pubmed’, ‘buildPubMedAbst’ when loading ‘RpsiXML’ ** testing if installed package can be loaded from final location No methods found in package ‘Biobase’ for request: ‘listlen’ when loading ‘RpsiXML’ No methods found in package ‘annotate’ for requests: ‘pubmed’, ‘buildPubMedAbst’ when loading ‘RpsiXML’ ** testing if installed package keeps a record of temporary installation path * DONE (RpsiXML)