| Back to Multiple platform build/check report for BioC 3.9 |
|
This page was generated on 2019-04-09 12:22:24 -0400 (Tue, 09 Apr 2019).
| Package 1374/1703 | Hostname | OS / Arch | INSTALL | BUILD | CHECK | BUILD BIN | ||||||
| RnaSeqSampleSize 1.15.2 Shilin Zhao
| malbec2 | Linux (Ubuntu 18.04.2 LTS) / x86_64 | OK | OK | OK | |||||||
| tokay2 | Windows Server 2012 R2 Standard / x64 | OK | [ OK ] | OK | OK | |||||||
| celaya2 | OS X 10.11.6 El Capitan / x86_64 | OK | OK | OK | OK | |||||||
| merida2 | OS X 10.11.6 El Capitan / x86_64 | OK | OK | OK | OK |
| Package: RnaSeqSampleSize |
| Version: 1.15.2 |
| Command: chmod a+r RnaSeqSampleSize -R && C:\Users\biocbuild\bbs-3.9-bioc\R\bin\R.exe CMD build --keep-empty-dirs --no-resave-data RnaSeqSampleSize |
| StartedAt: 2019-04-08 22:40:57 -0400 (Mon, 08 Apr 2019) |
| EndedAt: 2019-04-08 22:42:38 -0400 (Mon, 08 Apr 2019) |
| EllapsedTime: 101.0 seconds |
| RetCode: 0 |
| Status: OK |
| PackageFile: RnaSeqSampleSize_1.15.2.tar.gz |
| PackageFileSize: 213.1 KiB |
##############################################################################
##############################################################################
###
### Running command:
###
### chmod a+r RnaSeqSampleSize -R && C:\Users\biocbuild\bbs-3.9-bioc\R\bin\R.exe CMD build --keep-empty-dirs --no-resave-data RnaSeqSampleSize
###
##############################################################################
##############################################################################
* checking for file 'RnaSeqSampleSize/DESCRIPTION' ... OK
* preparing 'RnaSeqSampleSize':
* checking DESCRIPTION meta-information ... OK
* cleaning src
* installing the package to build vignettes
* creating vignettes ... OK
Warning: 'inst/doc' file
'RnaSeqSampleSize.pdf'
ignored as vignettes have been rebuilt.
Run R CMD build with --no-build-vignettes to prevent rebuilding.
* cleaning src
* checking for LF line-endings in source and make files and shell scripts
* checking for empty or unneeded directories
* building 'RnaSeqSampleSize_1.15.2.tar.gz'