| Back to Multiple platform build/check report for BioC 3.9 |
|
This page was generated on 2019-04-09 12:40:07 -0400 (Tue, 09 Apr 2019).
| Package 1365/1703 | Hostname | OS / Arch | INSTALL | BUILD | CHECK | BUILD BIN | ||||||
| Rmmquant 1.1.2 Zytnicki Matthias
| malbec2 | Linux (Ubuntu 18.04.2 LTS) / x86_64 | OK | OK | OK | |||||||
| tokay2 | Windows Server 2012 R2 Standard / x64 | [ OK ] | OK | OK | OK | |||||||
| celaya2 | OS X 10.11.6 El Capitan / x86_64 | OK | OK | OK | OK | |||||||
| merida2 | OS X 10.11.6 El Capitan / x86_64 | OK | OK | OK | OK |
| Package: Rmmquant |
| Version: 1.1.2 |
| Command: C:\cygwin\bin\curl.exe -O https://malbec2.bioconductor.org/BBS/3.9/bioc/src/contrib/Rmmquant_1.1.2.tar.gz && rm -rf Rmmquant.buildbin-libdir && mkdir Rmmquant.buildbin-libdir && C:\Users\biocbuild\bbs-3.9-bioc\R\bin\R.exe CMD INSTALL --merge-multiarch --build --library=Rmmquant.buildbin-libdir Rmmquant_1.1.2.tar.gz && C:\Users\biocbuild\bbs-3.9-bioc\R\bin\R.exe CMD INSTALL Rmmquant_1.1.2.zip && rm Rmmquant_1.1.2.tar.gz Rmmquant_1.1.2.zip |
| StartedAt: 2019-04-08 20:04:59 -0400 (Mon, 08 Apr 2019) |
| EndedAt: 2019-04-08 20:06:31 -0400 (Mon, 08 Apr 2019) |
| EllapsedTime: 92.2 seconds |
| RetCode: 0 |
| Status: OK |
##############################################################################
##############################################################################
###
### Running command:
###
### C:\cygwin\bin\curl.exe -O https://malbec2.bioconductor.org/BBS/3.9/bioc/src/contrib/Rmmquant_1.1.2.tar.gz && rm -rf Rmmquant.buildbin-libdir && mkdir Rmmquant.buildbin-libdir && C:\Users\biocbuild\bbs-3.9-bioc\R\bin\R.exe CMD INSTALL --merge-multiarch --build --library=Rmmquant.buildbin-libdir Rmmquant_1.1.2.tar.gz && C:\Users\biocbuild\bbs-3.9-bioc\R\bin\R.exe CMD INSTALL Rmmquant_1.1.2.zip && rm Rmmquant_1.1.2.tar.gz Rmmquant_1.1.2.zip
###
##############################################################################
##############################################################################
% Total % Received % Xferd Average Speed Time Time Time Current
Dload Upload Total Spent Left Speed
0 0 0 0 0 0 0 0 --:--:-- --:--:-- --:--:-- 0
0 0 0 0 0 0 0 0 --:--:-- --:--:-- --:--:-- 0
100 31029 100 31029 0 0 109k 0 --:--:-- --:--:-- --:--:-- 111k
install for i386
* installing *source* package 'Rmmquant' ...
** libs
C:/Rtools/mingw_32/bin/g++ -std=gnu++11 -I"C:/Users/BIOCBU˜1/BBS-3˜1.9-B/R/include" -DNDEBUG -I"C:/Users/biocbuild/bbs-3.9-bioc/R/library/Rcpp/include" -I"C:/extsoft/include" -O2 -Wall -mtune=generic -c RcppExports.cpp -o RcppExports.o
C:/Rtools/mingw_32/bin/g++ -std=gnu++11 -I"C:/Users/BIOCBU˜1/BBS-3˜1.9-B/R/include" -DNDEBUG -I"C:/Users/biocbuild/bbs-3.9-bioc/R/library/Rcpp/include" -I"C:/extsoft/include" -O2 -Wall -mtune=generic -c mmquant_wrapper.cpp -o mmquant_wrapper.o
C:/Rtools/mingw_32/bin/g++ -shared -s -static-libgcc -o Rmmquant.dll tmp.def RcppExports.o mmquant_wrapper.o -lz -LC:/extsoft/lib/i386 -LC:/extsoft/lib -LC:/Users/BIOCBU˜1/BBS-3˜1.9-B/R/bin/i386 -lR
installing to C:/Users/biocbuild/bbs-3.9-bioc/meat/Rmmquant.buildbin-libdir/00LOCK-Rmmquant/00new/Rmmquant/libs/i386
** R
** inst
** byte-compile and prepare package for lazy loading
** help
*** installing help indices
converting help for package 'Rmmquant'
finding HTML links ... done
Rmmquant html
RmmquantClass-class html
RmmquantClassExample html
RmmquantExample html
RmmquantRun html
counts-method html
show-RmmquantClass-method html
validateRmmquant html
** building package indices
** installing vignettes
** testing if installed package can be loaded from temporary location
** testing if installed package can be loaded from final location
** testing if installed package keeps a record of temporary installation path
install for x64
* installing *source* package 'Rmmquant' ...
** libs
C:/Rtools/mingw_64/bin/g++ -std=gnu++11 -I"C:/Users/BIOCBU˜1/BBS-3˜1.9-B/R/include" -DNDEBUG -I"C:/Users/biocbuild/bbs-3.9-bioc/R/library/Rcpp/include" -I"C:/extsoft/include" -O2 -Wall -mtune=generic -c RcppExports.cpp -o RcppExports.o
C:/Rtools/mingw_64/bin/g++ -std=gnu++11 -I"C:/Users/BIOCBU˜1/BBS-3˜1.9-B/R/include" -DNDEBUG -I"C:/Users/biocbuild/bbs-3.9-bioc/R/library/Rcpp/include" -I"C:/extsoft/include" -O2 -Wall -mtune=generic -c mmquant_wrapper.cpp -o mmquant_wrapper.o
C:/Rtools/mingw_64/bin/g++ -shared -s -static-libgcc -o Rmmquant.dll tmp.def RcppExports.o mmquant_wrapper.o -lz -LC:/extsoft/lib/x64 -LC:/extsoft/lib -LC:/Users/BIOCBU˜1/BBS-3˜1.9-B/R/bin/x64 -lR
installing to C:/Users/biocbuild/bbs-3.9-bioc/meat/Rmmquant.buildbin-libdir/Rmmquant/libs/x64
** testing if installed package can be loaded
* MD5 sums
packaged installation of 'Rmmquant' as Rmmquant_1.1.2.zip
* DONE (Rmmquant)
* installing to library 'C:/Users/biocbuild/bbs-3.9-bioc/R/library'
package 'Rmmquant' successfully unpacked and MD5 sums checked