| Back to Multiple platform build/check report for BioC 3.9 |
|
This page was generated on 2019-04-09 13:05:53 -0400 (Tue, 09 Apr 2019).
| Package 1330/1703 | Hostname | OS / Arch | INSTALL | BUILD | CHECK | BUILD BIN | ||||||
| ReportingTools 2.23.1 Jason A. Hackney
| malbec2 | Linux (Ubuntu 18.04.2 LTS) / x86_64 | OK | OK | OK | |||||||
| tokay2 | Windows Server 2012 R2 Standard / x64 | OK | OK | OK | OK | |||||||
| celaya2 | OS X 10.11.6 El Capitan / x86_64 | OK | OK | OK | [ OK ] | |||||||
| merida2 | OS X 10.11.6 El Capitan / x86_64 | OK | OK | OK | OK |
| Package: ReportingTools |
| Version: 2.23.1 |
| Command: rm -rf ReportingTools.buildbin-libdir && mkdir ReportingTools.buildbin-libdir && /Users/biocbuild/BBS/utils/build-universal.sh ReportingTools_2.23.1.tar.gz /Library/Frameworks/R.framework/Versions/Current/Resources/bin/R ReportingTools.buildbin-libdir |
| StartedAt: 2019-04-09 07:38:27 -0400 (Tue, 09 Apr 2019) |
| EndedAt: 2019-04-09 07:39:54 -0400 (Tue, 09 Apr 2019) |
| EllapsedTime: 87.8 seconds |
| RetCode: 0 |
| Status: OK |
| PackageFile: ReportingTools_2.23.1.tgz |
| PackageFileSize: 2.169 MiB |
############################################################################## ############################################################################## ### ### Running command: ### ### rm -rf ReportingTools.buildbin-libdir && mkdir ReportingTools.buildbin-libdir && /Users/biocbuild/BBS/utils/build-universal.sh ReportingTools_2.23.1.tar.gz /Library/Frameworks/R.framework/Versions/Current/Resources/bin/R ReportingTools.buildbin-libdir ### ############################################################################## ############################################################################## >>>>>>> >>>>>>> INSTALLATION WITH 'R CMD INSTALL --preclean --no-multiarch --library=ReportingTools.buildbin-libdir ReportingTools_2.23.1.tar.gz' >>>>>>> * installing *source* package ‘ReportingTools’ ... ** using staged installation ** R ** data ** inst ** byte-compile and prepare package for lazy loading in method for 'objectToHTML' with signature 'object="ggbio"': no definition for class "ggbio" ** help *** installing help indices ** building package indices ** installing vignettes ** testing if installed package can be loaded from temporary location ** testing if installed package can be loaded from final location ** testing if installed package keeps a record of temporary installation path * DONE (ReportingTools)