| Back to Multiple platform build/check report for BioC 3.9 | 
 | 
This page was generated on 2019-04-09 11:55:28 -0400 (Tue, 09 Apr 2019).
| Package 1324/1703 | Hostname | OS / Arch | INSTALL | BUILD | CHECK | BUILD BIN | ||||||
| RefPlus 1.53.0 Kai-Ming Chang 
 | malbec2 | Linux (Ubuntu 18.04.2 LTS) / x86_64 | OK | OK | OK |  | ||||||
| tokay2 | Windows Server 2012 R2 Standard / x64 | OK | OK | [ OK ] | OK |  | ||||||
| celaya2 | OS X 10.11.6 El Capitan / x86_64 | OK | OK | OK | OK |  | ||||||
| merida2 | OS X 10.11.6 El Capitan / x86_64 | OK | OK | OK | OK | 
| Package: RefPlus | 
| Version: 1.53.0 | 
| Command: C:\Users\biocbuild\bbs-3.9-bioc\R\bin\R.exe CMD check --force-multiarch --install=check:RefPlus.install-out.txt --library=C:\Users\biocbuild\bbs-3.9-bioc\R\library --no-vignettes --timings RefPlus_1.53.0.tar.gz | 
| StartedAt: 2019-04-09 05:19:19 -0400 (Tue, 09 Apr 2019) | 
| EndedAt: 2019-04-09 05:21:53 -0400 (Tue, 09 Apr 2019) | 
| EllapsedTime: 154.3 seconds | 
| RetCode: 0 | 
| Status: OK | 
| CheckDir: RefPlus.Rcheck | 
| Warnings: 0 | 
##############################################################################
##############################################################################
###
### Running command:
###
###   C:\Users\biocbuild\bbs-3.9-bioc\R\bin\R.exe CMD check --force-multiarch --install=check:RefPlus.install-out.txt --library=C:\Users\biocbuild\bbs-3.9-bioc\R\library --no-vignettes --timings RefPlus_1.53.0.tar.gz
###
##############################################################################
##############################################################################
* using log directory 'C:/Users/biocbuild/bbs-3.9-bioc/meat/RefPlus.Rcheck'
* using R Under development (unstable) (2019-03-09 r76216)
* using platform: x86_64-w64-mingw32 (64-bit)
* using session charset: ISO8859-1
* using option '--no-vignettes'
* checking for file 'RefPlus/DESCRIPTION' ... OK
* checking extension type ... Package
* this is package 'RefPlus' version '1.53.0'
* checking package namespace information ... OK
* checking package dependencies ... OK
* checking if this is a source package ... OK
* checking if there is a namespace ... OK
* checking for hidden files and directories ... OK
* checking for portable file names ... OK
* checking whether package 'RefPlus' can be installed ... OK
* checking installed package size ... OK
* checking package directory ... OK
* checking 'build' directory ... OK
* checking DESCRIPTION meta-information ... NOTE
Malformed Title field: should not end in a period.
* checking top-level files ... OK
* checking for left-over files ... OK
* checking index information ... OK
* checking package subdirectories ... OK
* checking R files for non-ASCII characters ... OK
* checking R files for syntax errors ... OK
* loading checks for arch 'i386'
** checking whether the package can be loaded ... OK
** checking whether the package can be loaded with stated dependencies ... OK
** checking whether the package can be unloaded cleanly ... OK
** checking whether the namespace can be loaded with stated dependencies ... OK
** checking whether the namespace can be unloaded cleanly ... OK
* loading checks for arch 'x64'
** checking whether the package can be loaded ... OK
** checking whether the package can be loaded with stated dependencies ... OK
** checking whether the package can be unloaded cleanly ... OK
** checking whether the namespace can be loaded with stated dependencies ... OK
** checking whether the namespace can be unloaded cleanly ... OK
* checking dependencies in R code ... NOTE
Package in Depends field not imported from: 'affyPLM'
  These packages need to be imported from (in the NAMESPACE file)
  for when this namespace is loaded but not attached.
* checking S3 generic/method consistency ... OK
* checking replacement functions ... OK
* checking foreign function calls ... OK
* checking R code for possible problems ... NOTE
rma.para: no visible global function definition for 'rmaPLM'
rma.para: no visible global function definition for 'coefs.probe'
rma.para: no visible global function definition for 'coefs'
Undefined global functions or variables:
  coefs coefs.probe rmaPLM
* checking Rd files ... NOTE
prepare_Rd: colMedians.Rd:19: Dropping empty section \references
prepare_Rd: rmaref.predict.Rd:29-30: Dropping empty section \examples
* checking Rd metadata ... OK
* checking Rd cross-references ... OK
* checking for missing documentation entries ... OK
* checking for code/documentation mismatches ... OK
* checking Rd \usage sections ... OK
* checking Rd contents ... OK
* checking for unstated dependencies in examples ... OK
* checking files in 'vignettes' ... OK
* checking examples ...
** running examples for arch 'i386' ... OK
Examples with CPU or elapsed time > 5s
                 user system elapsed
rmaplus         13.04   0.39   13.43
RefPlus-package 11.35   0.35   11.70
rma.para         7.35   0.27    7.61
** running examples for arch 'x64' ... OK
Examples with CPU or elapsed time > 5s
                 user system elapsed
RefPlus-package 11.91   0.29   12.21
rmaplus         10.27   0.33   10.59
rma.para         5.50   0.22    5.72
* checking for unstated dependencies in vignettes ... OK
* checking package vignettes in 'inst/doc' ... OK
* checking running R code from vignettes ... SKIPPED
* checking re-building of vignette outputs ... SKIPPED
* checking PDF version of manual ... OK
* DONE
Status: 4 NOTEs
See
  'C:/Users/biocbuild/bbs-3.9-bioc/meat/RefPlus.Rcheck/00check.log'
for details.
RefPlus.Rcheck/00install.out
##############################################################################
##############################################################################
###
### Running command:
###
###   C:\cygwin\bin\curl.exe -O https://malbec2.bioconductor.org/BBS/3.9/bioc/src/contrib/RefPlus_1.53.0.tar.gz && rm -rf RefPlus.buildbin-libdir && mkdir RefPlus.buildbin-libdir && C:\Users\biocbuild\bbs-3.9-bioc\R\bin\R.exe CMD INSTALL --merge-multiarch --build --library=RefPlus.buildbin-libdir RefPlus_1.53.0.tar.gz && C:\Users\biocbuild\bbs-3.9-bioc\R\bin\R.exe CMD INSTALL RefPlus_1.53.0.zip && rm RefPlus_1.53.0.tar.gz RefPlus_1.53.0.zip
###
##############################################################################
##############################################################################
  % Total    % Received % Xferd  Average Speed   Time    Time     Time  Current
                                 Dload  Upload   Total   Spent    Left  Speed
  0     0    0     0    0     0      0      0 --:--:-- --:--:-- --:--:--     0
  0  702k    0     0    0     0      0      0 --:--:-- --:--:-- --:--:--     0
100  702k  100  702k    0     0  4467k      0 --:--:-- --:--:-- --:--:-- 4653k
install for i386
* installing *source* package 'RefPlus' ...
** R
** byte-compile and prepare package for lazy loading
** help
*** installing help indices
  converting help for package 'RefPlus'
    finding HTML links ... done
    RefPlus-package                         html  
    colMedians                              html  
    normalize.quantiles2                    html  
    rma.para                                html  
    rmaplus                                 html  
    rmaref.predict                          html  
** building package indices
** installing vignettes
** testing if installed package can be loaded from temporary location
** testing if installed package can be loaded from final location
** testing if installed package keeps a record of temporary installation path
install for x64
* installing *source* package 'RefPlus' ...
** testing if installed package can be loaded
* MD5 sums
packaged installation of 'RefPlus' as RefPlus_1.53.0.zip
* DONE (RefPlus)
* installing to library 'C:/Users/biocbuild/bbs-3.9-bioc/R/library'
package 'RefPlus' successfully unpacked and MD5 sums checked
| RefPlus.Rcheck/examples_i386/RefPlus-Ex.timings 
 | RefPlus.Rcheck/examples_x64/RefPlus-Ex.timings 
 |