| Back to Multiple platform build/check report for BioC 3.9 |
|
This page was generated on 2019-04-09 12:54:17 -0400 (Tue, 09 Apr 2019).
| Package 1312/1703 | Hostname | OS / Arch | INSTALL | BUILD | CHECK | BUILD BIN | ||||||
| Rdisop 1.43.3 Steffen Neumann
| malbec2 | Linux (Ubuntu 18.04.2 LTS) / x86_64 | OK | OK | OK | |||||||
| tokay2 | Windows Server 2012 R2 Standard / x64 | OK | OK | OK | ERROR | |||||||
| celaya2 | OS X 10.11.6 El Capitan / x86_64 | OK | [ OK ] | OK | OK | |||||||
| merida2 | OS X 10.11.6 El Capitan / x86_64 | OK | OK | OK | OK |
| Package: Rdisop |
| Version: 1.43.3 |
| Command: /Library/Frameworks/R.framework/Versions/Current/Resources/bin/R CMD build --keep-empty-dirs --no-resave-data Rdisop |
| StartedAt: 2019-04-08 19:37:57 -0400 (Mon, 08 Apr 2019) |
| EndedAt: 2019-04-08 19:39:30 -0400 (Mon, 08 Apr 2019) |
| EllapsedTime: 92.7 seconds |
| RetCode: 0 |
| Status: OK |
| PackageFile: Rdisop_1.43.3.tar.gz |
| PackageFileSize: 845.5 KiB |
############################################################################## ############################################################################## ### ### Running command: ### ### /Library/Frameworks/R.framework/Versions/Current/Resources/bin/R CMD build --keep-empty-dirs --no-resave-data Rdisop ### ############################################################################## ############################################################################## * checking for file ‘Rdisop/DESCRIPTION’ ... OK * preparing ‘Rdisop’: * checking DESCRIPTION meta-information ... OK * cleaning src * running ‘cleanup’ * installing the package to build vignettes * creating vignettes ... OK * cleaning src * running ‘cleanup’ * checking for LF line-endings in source and make files and shell scripts * checking for empty or unneeded directories * building ‘Rdisop_1.43.3.tar.gz’