| Back to Multiple platform build/check report for BioC 3.9 |
|
This page was generated on 2019-04-09 12:00:28 -0400 (Tue, 09 Apr 2019).
| Package 1302/1703 | Hostname | OS / Arch | INSTALL | BUILD | CHECK | BUILD BIN | ||||||
| RchyOptimyx 2.23.0 Adrin Jalali
| malbec2 | Linux (Ubuntu 18.04.2 LTS) / x86_64 | OK | OK | OK | |||||||
| tokay2 | Windows Server 2012 R2 Standard / x64 | OK | OK | OK | [ OK ] | |||||||
| celaya2 | OS X 10.11.6 El Capitan / x86_64 | OK | OK | WARNINGS | OK | |||||||
| merida2 | OS X 10.11.6 El Capitan / x86_64 | OK | OK | WARNINGS | OK |
| Package: RchyOptimyx |
| Version: 2.23.0 |
| Command: rm -rf RchyOptimyx.buildbin-libdir && mkdir RchyOptimyx.buildbin-libdir && C:\Users\biocbuild\bbs-3.9-bioc\R\bin\R.exe CMD INSTALL --merge-multiarch --build --library=RchyOptimyx.buildbin-libdir RchyOptimyx_2.23.0.tar.gz |
| StartedAt: 2019-04-09 08:47:31 -0400 (Tue, 09 Apr 2019) |
| EndedAt: 2019-04-09 08:48:02 -0400 (Tue, 09 Apr 2019) |
| EllapsedTime: 31.4 seconds |
| RetCode: 0 |
| Status: OK |
| PackageFile: RchyOptimyx_2.23.0.zip |
| PackageFileSize: 1.11 MiB |
##############################################################################
##############################################################################
###
### Running command:
###
### rm -rf RchyOptimyx.buildbin-libdir && mkdir RchyOptimyx.buildbin-libdir && C:\Users\biocbuild\bbs-3.9-bioc\R\bin\R.exe CMD INSTALL --merge-multiarch --build --library=RchyOptimyx.buildbin-libdir RchyOptimyx_2.23.0.tar.gz
###
##############################################################################
##############################################################################
install for i386
* installing *source* package 'RchyOptimyx' ...
** libs
C:/Rtools/mingw_32/bin/g++ -I"C:/Users/BIOCBU˜1/BBS-3˜1.9-B/R/include" -DNDEBUG -I"C:/extsoft/include" -O2 -Wall -mtune=generic -c RchyOptimyx.cpp -o RchyOptimyx.o
C:/Rtools/mingw_32/bin/g++ -I"C:/Users/BIOCBU˜1/BBS-3˜1.9-B/R/include" -DNDEBUG -I"C:/extsoft/include" -O2 -Wall -mtune=generic -c dataRead.cpp -o dataRead.o
C:/Rtools/mingw_32/bin/g++ -I"C:/Users/BIOCBU˜1/BBS-3˜1.9-B/R/include" -DNDEBUG -I"C:/extsoft/include" -O2 -Wall -mtune=generic -c mystring.cpp -o mystring.o
C:/Rtools/mingw_32/bin/g++ -I"C:/Users/BIOCBU˜1/BBS-3˜1.9-B/R/include" -DNDEBUG -I"C:/extsoft/include" -O2 -Wall -mtune=generic -c numberGenerator.cpp -o numberGenerator.o
C:/Rtools/mingw_32/bin/g++ -shared -s -static-libgcc -o RchyOptimyx.dll tmp.def RchyOptimyx.o dataRead.o mystring.o numberGenerator.o -LC:/extsoft/lib/i386 -LC:/extsoft/lib -LC:/Users/BIOCBU˜1/BBS-3˜1.9-B/R/bin/i386 -lR
installing to C:/Users/biocbuild/bbs-3.9-bioc/meat/RchyOptimyx.buildbin-libdir/00LOCK-RchyOptimyx/00new/RchyOptimyx/libs/i386
** R
** data
** inst
** byte-compile and prepare package for lazy loading
Creating a new generic function for 'merge' in package 'RchyOptimyx'
** help
*** installing help indices
converting help for package 'RchyOptimyx'
finding HTML links ... done
HIVData html
RchyOptimyx-package html
RchyOptimyx html
merge html
plot html
summary-methods html
** building package indices
** installing vignettes
** testing if installed package can be loaded from temporary location
** testing if installed package can be loaded from final location
** testing if installed package keeps a record of temporary installation path
install for x64
* installing *source* package 'RchyOptimyx' ...
** libs
C:/Rtools/mingw_64/bin/g++ -I"C:/Users/BIOCBU˜1/BBS-3˜1.9-B/R/include" -DNDEBUG -I"C:/extsoft/include" -O2 -Wall -mtune=generic -c RchyOptimyx.cpp -o RchyOptimyx.o
C:/Rtools/mingw_64/bin/g++ -I"C:/Users/BIOCBU˜1/BBS-3˜1.9-B/R/include" -DNDEBUG -I"C:/extsoft/include" -O2 -Wall -mtune=generic -c dataRead.cpp -o dataRead.o
C:/Rtools/mingw_64/bin/g++ -I"C:/Users/BIOCBU˜1/BBS-3˜1.9-B/R/include" -DNDEBUG -I"C:/extsoft/include" -O2 -Wall -mtune=generic -c mystring.cpp -o mystring.o
C:/Rtools/mingw_64/bin/g++ -I"C:/Users/BIOCBU˜1/BBS-3˜1.9-B/R/include" -DNDEBUG -I"C:/extsoft/include" -O2 -Wall -mtune=generic -c numberGenerator.cpp -o numberGenerator.o
C:/Rtools/mingw_64/bin/g++ -shared -s -static-libgcc -o RchyOptimyx.dll tmp.def RchyOptimyx.o dataRead.o mystring.o numberGenerator.o -LC:/extsoft/lib/x64 -LC:/extsoft/lib -LC:/Users/BIOCBU˜1/BBS-3˜1.9-B/R/bin/x64 -lR
installing to C:/Users/biocbuild/bbs-3.9-bioc/meat/RchyOptimyx.buildbin-libdir/RchyOptimyx/libs/x64
** testing if installed package can be loaded
* MD5 sums
packaged installation of 'RchyOptimyx' as RchyOptimyx_2.23.0.zip
* DONE (RchyOptimyx)