| Back to Multiple platform build/check report for BioC 3.9 | 
 | 
This page was generated on 2019-04-09 12:01:15 -0400 (Tue, 09 Apr 2019).
| Package 1296/1703 | Hostname | OS / Arch | INSTALL | BUILD | CHECK | BUILD BIN | ||||||
| Rcade 1.25.0 Jonathan Cairns 
 | malbec2 | Linux (Ubuntu 18.04.2 LTS) / x86_64 | OK | OK | OK |  | ||||||
| tokay2 | Windows Server 2012 R2 Standard / x64 | OK | OK | OK | [ OK ] |  | ||||||
| celaya2 | OS X 10.11.6 El Capitan / x86_64 | OK | OK | WARNINGS | OK |  | ||||||
| merida2 | OS X 10.11.6 El Capitan / x86_64 | OK | OK | WARNINGS | OK | 
| Package: Rcade | 
| Version: 1.25.0 | 
| Command: rm -rf Rcade.buildbin-libdir && mkdir Rcade.buildbin-libdir && C:\Users\biocbuild\bbs-3.9-bioc\R\bin\R.exe CMD INSTALL --merge-multiarch --build --library=Rcade.buildbin-libdir Rcade_1.25.0.tar.gz | 
| StartedAt: 2019-04-09 08:47:08 -0400 (Tue, 09 Apr 2019) | 
| EndedAt: 2019-04-09 08:47:58 -0400 (Tue, 09 Apr 2019) | 
| EllapsedTime: 50.2 seconds | 
| RetCode: 0 | 
| Status: OK | 
| PackageFile: Rcade_1.25.0.zip | 
| PackageFileSize: 2.014 MiB | 
##############################################################################
##############################################################################
###
### Running command:
###
###   rm -rf Rcade.buildbin-libdir && mkdir Rcade.buildbin-libdir && C:\Users\biocbuild\bbs-3.9-bioc\R\bin\R.exe CMD INSTALL --merge-multiarch --build --library=Rcade.buildbin-libdir Rcade_1.25.0.tar.gz
###
##############################################################################
##############################################################################
install for i386
* installing *source* package 'Rcade' ...
** R
** data
** inst
** byte-compile and prepare package for lazy loading
** help
*** installing help indices
  converting help for package 'Rcade'
    finding HTML links ... done
    Rcade-class                             html  
    RcadeAnalysis                           html  
    RcadeSTAT1                              html  
    RcadeTrack-class                        html  
    constructRcadeTable                     html  
    countReads                              html  
    defineBins                              html  
    finding level-2 HTML links ... done
    diffCountsBaySeq                        html  
    exportRcade-methods                     html  
** building package indices
** installing vignettes
** testing if installed package can be loaded from temporary location
** testing if installed package can be loaded from final location
** testing if installed package keeps a record of temporary installation path
install for x64
* installing *source* package 'Rcade' ...
** testing if installed package can be loaded
* MD5 sums
packaged installation of 'Rcade' as Rcade_1.25.0.zip
* DONE (Rcade)