| Back to Multiple platform build/check report for BioC 3.9 | 
 | 
This page was generated on 2019-04-09 13:29:32 -0400 (Tue, 09 Apr 2019).
| Package 1287/1703 | Hostname | OS / Arch | INSTALL | BUILD | CHECK | BUILD BIN | ||||||
| Rariant 1.19.0 Julian Gehring 
 | malbec2 | Linux (Ubuntu 18.04.2 LTS) / x86_64 | OK | OK | WARNINGS |  | ||||||
| tokay2 | Windows Server 2012 R2 Standard / x64 | OK | OK | WARNINGS | OK |  | ||||||
| celaya2 | OS X 10.11.6 El Capitan / x86_64 | OK | OK | WARNINGS | OK |  | ||||||
| merida2 | OS X 10.11.6 El Capitan / x86_64 | OK | OK | WARNINGS | [ OK ] | 
| Package: Rariant | 
| Version: 1.19.0 | 
| Command: rm -rf Rariant.buildbin-libdir && mkdir Rariant.buildbin-libdir && /Users/biocbuild/BBS/utils/build-universal.sh Rariant_1.19.0.tar.gz /Library/Frameworks/R.framework/Versions/Current/Resources/bin/R Rariant.buildbin-libdir | 
| StartedAt: 2019-04-09 06:15:26 -0400 (Tue, 09 Apr 2019) | 
| EndedAt: 2019-04-09 06:16:44 -0400 (Tue, 09 Apr 2019) | 
| EllapsedTime: 77.9 seconds | 
| RetCode: 0 | 
| Status: OK | 
| PackageFile: Rariant_1.19.0.tgz | 
| PackageFileSize: 7.224 MiB | 
############################################################################## ############################################################################## ### ### Running command: ### ### rm -rf Rariant.buildbin-libdir && mkdir Rariant.buildbin-libdir && /Users/biocbuild/BBS/utils/build-universal.sh Rariant_1.19.0.tar.gz /Library/Frameworks/R.framework/Versions/Current/Resources/bin/R Rariant.buildbin-libdir ### ############################################################################## ############################################################################## >>>>>>> >>>>>>> INSTALLATION WITH 'R CMD INSTALL --preclean --no-multiarch --library=Rariant.buildbin-libdir Rariant_1.19.0.tar.gz' >>>>>>> * installing *source* package ‘Rariant’ ... ** R ** inst ** byte-compile and prepare package for lazy loading ** help *** installing help indices ** building package indices ** installing vignettes ** testing if installed package can be loaded * DONE (Rariant)