| Back to Multiple platform build/check report for BioC 3.9 | 
 | 
This page was generated on 2019-04-09 12:24:18 -0400 (Tue, 09 Apr 2019).
| Package 1286/1703 | Hostname | OS / Arch | INSTALL | BUILD | CHECK | BUILD BIN | ||||||
| RareVariantVis 2.11.0 Tomasz Stokowy 
 | malbec2 | Linux (Ubuntu 18.04.2 LTS) / x86_64 | OK | OK | OK |  | ||||||
| tokay2 | Windows Server 2012 R2 Standard / x64 | OK | OK | ERROR | [ OK ] | |||||||
| celaya2 | OS X 10.11.6 El Capitan / x86_64 | OK | OK | OK | OK |  | ||||||
| merida2 | OS X 10.11.6 El Capitan / x86_64 | OK | OK | OK | OK | 
| Package: RareVariantVis | 
| Version: 2.11.0 | 
| Command: rm -rf RareVariantVis.buildbin-libdir && mkdir RareVariantVis.buildbin-libdir && C:\Users\biocbuild\bbs-3.9-bioc\R\bin\R.exe CMD INSTALL --merge-multiarch --build --library=RareVariantVis.buildbin-libdir RareVariantVis_2.11.0.tar.gz | 
| StartedAt: 2019-04-09 08:46:29 -0400 (Tue, 09 Apr 2019) | 
| EndedAt: 2019-04-09 08:47:47 -0400 (Tue, 09 Apr 2019) | 
| EllapsedTime: 77.6 seconds | 
| RetCode: 0 | 
| Status: OK | 
| PackageFile: RareVariantVis_2.11.0.zip | 
| PackageFileSize: 2.729 MiB | 
##############################################################################
##############################################################################
###
### Running command:
###
###   rm -rf RareVariantVis.buildbin-libdir && mkdir RareVariantVis.buildbin-libdir && C:\Users\biocbuild\bbs-3.9-bioc\R\bin\R.exe CMD INSTALL --merge-multiarch --build --library=RareVariantVis.buildbin-libdir RareVariantVis_2.11.0.tar.gz
###
##############################################################################
##############################################################################
install for i386
* installing *source* package 'RareVariantVis' ...
** R
** inst
** byte-compile and prepare package for lazy loading
Creating a generic function for 'toJSON' from package 'jsonlite' in package 'googleVis'
** help
*** installing help indices
  converting help for package 'RareVariantVis'
    finding HTML links ... done
    callHomozygous                          html  
    chromosomeVis                           html  
    getCrisprGuides                         html  
    movingAverage                           html  
    multipleVis                             html  
    rareVariantVis                          html  
** building package indices
** installing vignettes
** testing if installed package can be loaded from temporary location
Creating a generic function for 'toJSON' from package 'jsonlite' in package 'googleVis'
** testing if installed package can be loaded from final location
Creating a generic function for 'toJSON' from package 'jsonlite' in package 'googleVis'
** testing if installed package keeps a record of temporary installation path
install for x64
* installing *source* package 'RareVariantVis' ...
** testing if installed package can be loaded
Creating a generic function for 'toJSON' from package 'jsonlite' in package 'googleVis'
* MD5 sums
packaged installation of 'RareVariantVis' as RareVariantVis_2.11.0.zip
* DONE (RareVariantVis)