| Back to Multiple platform build/check report for BioC 3.9 | 
 | 
This page was generated on 2019-04-09 12:38:58 -0400 (Tue, 09 Apr 2019).
| Package 1283/1703 | Hostname | OS / Arch | INSTALL | BUILD | CHECK | BUILD BIN | ||||||
| RandomWalkRestartMH 1.3.0 Alberto Valdeolivas Urbelz 
 | malbec2 | Linux (Ubuntu 18.04.2 LTS) / x86_64 | OK | OK | OK |  | ||||||
| tokay2 | Windows Server 2012 R2 Standard / x64 | [ OK ] | OK | OK | OK |  | ||||||
| celaya2 | OS X 10.11.6 El Capitan / x86_64 | OK | OK | OK | OK |  | ||||||
| merida2 | OS X 10.11.6 El Capitan / x86_64 | OK | OK | OK | OK | 
| Package: RandomWalkRestartMH | 
| Version: 1.3.0 | 
| Command: C:\cygwin\bin\curl.exe -O https://malbec2.bioconductor.org/BBS/3.9/bioc/src/contrib/RandomWalkRestartMH_1.3.0.tar.gz && rm -rf RandomWalkRestartMH.buildbin-libdir && mkdir RandomWalkRestartMH.buildbin-libdir && C:\Users\biocbuild\bbs-3.9-bioc\R\bin\R.exe CMD INSTALL --merge-multiarch --build --library=RandomWalkRestartMH.buildbin-libdir RandomWalkRestartMH_1.3.0.tar.gz && C:\Users\biocbuild\bbs-3.9-bioc\R\bin\R.exe CMD INSTALL RandomWalkRestartMH_1.3.0.zip && rm RandomWalkRestartMH_1.3.0.tar.gz RandomWalkRestartMH_1.3.0.zip | 
| StartedAt: 2019-04-08 19:33:25 -0400 (Mon, 08 Apr 2019) | 
| EndedAt: 2019-04-08 19:34:17 -0400 (Mon, 08 Apr 2019) | 
| EllapsedTime: 51.7 seconds | 
| RetCode: 0 | 
| Status: OK | 
##############################################################################
##############################################################################
###
### Running command:
###
###   C:\cygwin\bin\curl.exe -O https://malbec2.bioconductor.org/BBS/3.9/bioc/src/contrib/RandomWalkRestartMH_1.3.0.tar.gz && rm -rf RandomWalkRestartMH.buildbin-libdir && mkdir RandomWalkRestartMH.buildbin-libdir && C:\Users\biocbuild\bbs-3.9-bioc\R\bin\R.exe CMD INSTALL --merge-multiarch --build --library=RandomWalkRestartMH.buildbin-libdir RandomWalkRestartMH_1.3.0.tar.gz && C:\Users\biocbuild\bbs-3.9-bioc\R\bin\R.exe CMD INSTALL RandomWalkRestartMH_1.3.0.zip && rm RandomWalkRestartMH_1.3.0.tar.gz RandomWalkRestartMH_1.3.0.zip
###
##############################################################################
##############################################################################
  % Total    % Received % Xferd  Average Speed   Time    Time     Time  Current
                                 Dload  Upload   Total   Spent    Left  Speed
  0     0    0     0    0     0      0      0 --:--:-- --:--:-- --:--:--     0
100  394k  100  394k    0     0  6466k      0 --:--:-- --:--:-- --:--:-- 7305k
install for i386
* installing *source* package 'RandomWalkRestartMH' ...
** R
** data
*** moving datasets to lazyload DB
** byte-compile and prepare package for lazy loading
** help
*** installing help indices
  converting help for package 'RandomWalkRestartMH'
    finding HTML links ... done
    Disease_Network                         html  
    GeneDiseaseRelations                    html  
    PPI_Network                             html  
    Pathway_Network                         html  
    Random.Walk.Restart.Multiplex           html  
    Random.Walk.Restart.MultiplexHet        html  
    compute.adjacency.matrix                html  
    compute.transition.matrix               html  
    create.multiplex                        html  
    create.multiplexHet                     html  
    create.multiplexHetNetwork.topResults   html  
    create.multiplexNetwork.topResults      html  
    isMultiplex                             html  
    isMultiplexHet                          html  
    isRWRMH_Results                         html  
    isRWRM_Results                          html  
    normalize.multiplex.adjacency           html  
** building package indices
** installing vignettes
** testing if installed package can be loaded from temporary location
** testing if installed package can be loaded from final location
** testing if installed package keeps a record of temporary installation path
install for x64
* installing *source* package 'RandomWalkRestartMH' ...
** testing if installed package can be loaded
* MD5 sums
packaged installation of 'RandomWalkRestartMH' as RandomWalkRestartMH_1.3.0.zip
* DONE (RandomWalkRestartMH)
* installing to library 'C:/Users/biocbuild/bbs-3.9-bioc/R/library'
package 'RandomWalkRestartMH' successfully unpacked and MD5 sums checked