| Back to Multiple platform build/check report for BioC 3.9 |
|
This page was generated on 2019-04-09 12:30:44 -0400 (Tue, 09 Apr 2019).
| Package 1279/1703 | Hostname | OS / Arch | INSTALL | BUILD | CHECK | BUILD BIN | ||||||
| RaggedExperiment 1.7.5 Martin Morgan
| malbec2 | Linux (Ubuntu 18.04.2 LTS) / x86_64 | OK | OK | OK | |||||||
| tokay2 | Windows Server 2012 R2 Standard / x64 | OK | OK | WARNINGS | [ OK ] | |||||||
| celaya2 | OS X 10.11.6 El Capitan / x86_64 | OK | OK | OK | OK | |||||||
| merida2 | OS X 10.11.6 El Capitan / x86_64 | OK | OK | OK | OK |
| Package: RaggedExperiment |
| Version: 1.7.5 |
| Command: rm -rf RaggedExperiment.buildbin-libdir && mkdir RaggedExperiment.buildbin-libdir && C:\Users\biocbuild\bbs-3.9-bioc\R\bin\R.exe CMD INSTALL --merge-multiarch --build --library=RaggedExperiment.buildbin-libdir RaggedExperiment_1.7.5.tar.gz |
| StartedAt: 2019-04-09 08:46:02 -0400 (Tue, 09 Apr 2019) |
| EndedAt: 2019-04-09 08:46:33 -0400 (Tue, 09 Apr 2019) |
| EllapsedTime: 30.5 seconds |
| RetCode: 0 |
| Status: OK |
| PackageFile: RaggedExperiment_1.7.5.zip |
| PackageFileSize: 890.2 KiB |
##############################################################################
##############################################################################
###
### Running command:
###
### rm -rf RaggedExperiment.buildbin-libdir && mkdir RaggedExperiment.buildbin-libdir && C:\Users\biocbuild\bbs-3.9-bioc\R\bin\R.exe CMD INSTALL --merge-multiarch --build --library=RaggedExperiment.buildbin-libdir RaggedExperiment_1.7.5.tar.gz
###
##############################################################################
##############################################################################
install for i386
* installing *source* package 'RaggedExperiment' ...
** R
** inst
** byte-compile and prepare package for lazy loading
** help
*** installing help indices
converting help for package 'RaggedExperiment'
finding HTML links ... done
RaggedExperiment-class html
finding level-2 HTML links ... done
Rd warning: C:/Users/biocbuild/bbs-3.9-bioc/tmpdir/RtmpEjw8nM/R.INSTALL151417ef51ef/RaggedExperiment/man/RaggedExperiment-class.Rd:107: file link 'GRanges' in package 'GenomicRanges' does not exist and so has been treated as a topic
Rd warning: C:/Users/biocbuild/bbs-3.9-bioc/tmpdir/RtmpEjw8nM/R.INSTALL151417ef51ef/RaggedExperiment/man/RaggedExperiment-class.Rd:131: file link 'GRangesList' in package 'GenomicRanges' does not exist and so has been treated as a topic
Rd warning: C:/Users/biocbuild/bbs-3.9-bioc/tmpdir/RtmpEjw8nM/R.INSTALL151417ef51ef/RaggedExperiment/man/RaggedExperiment-class.Rd:132: file link 'GAlignmentPairs' in package 'GenomicAlignments' does not exist and so has been treated as a topic
Rd warning: C:/Users/biocbuild/bbs-3.9-bioc/tmpdir/RtmpEjw8nM/R.INSTALL151417ef51ef/RaggedExperiment/man/RaggedExperiment-class.Rd:133: file link 'GAlignmentsList' in package 'GenomicAlignments' does not exist and so has been treated as a topic
Rd warning: C:/Users/biocbuild/bbs-3.9-bioc/tmpdir/RtmpEjw8nM/R.INSTALL151417ef51ef/RaggedExperiment/man/RaggedExperiment-class.Rd:142: file link 'GRangesList' in package 'GenomicRanges' does not exist and so has been treated as a topic
Rd warning: C:/Users/biocbuild/bbs-3.9-bioc/tmpdir/RtmpEjw8nM/R.INSTALL151417ef51ef/RaggedExperiment/man/RaggedExperiment-class.Rd:144: file link 'exonsBy' in package 'GenomicFeatures' does not exist and so has been treated as a topic
Rd warning: C:/Users/biocbuild/bbs-3.9-bioc/tmpdir/RtmpEjw8nM/R.INSTALL151417ef51ef/RaggedExperiment/man/RaggedExperiment-class.Rd:157: file link 'GRangesList' in package 'GenomicRanges' does not exist and so has been treated as a topic
Rd warning: C:/Users/biocbuild/bbs-3.9-bioc/tmpdir/RtmpEjw8nM/R.INSTALL151417ef51ef/RaggedExperiment/man/RaggedExperiment-class.Rd:162: file link 'GRanges' in package 'GenomicRanges' does not exist and so has been treated as a topic
Rd warning: C:/Users/biocbuild/bbs-3.9-bioc/tmpdir/RtmpEjw8nM/R.INSTALL151417ef51ef/RaggedExperiment/man/RaggedExperiment-class.Rd:163: file link 'GAlignments' in package 'GenomicAlignments' does not exist and so has been treated as a topic
Rd warning: C:/Users/biocbuild/bbs-3.9-bioc/tmpdir/RtmpEjw8nM/R.INSTALL151417ef51ef/RaggedExperiment/man/RaggedExperiment-class.Rd:172: file link 'DataFrame' in package 'S4Vectors' does not exist and so has been treated as a topic
Rd warning: C:/Users/biocbuild/bbs-3.9-bioc/tmpdir/RtmpEjw8nM/R.INSTALL151417ef51ef/RaggedExperiment/man/RaggedExperiment-class.Rd:405: file link 'SimpleList' in package 'S4Vectors' does not exist and so has been treated as a topic
Rd warning: C:/Users/biocbuild/bbs-3.9-bioc/tmpdir/RtmpEjw8nM/R.INSTALL151417ef51ef/RaggedExperiment/man/RaggedExperiment-class.Rd:419: file link 'DataFrame' in package 'S4Vectors' does not exist and so has been treated as a topic
RaggedExperiment-package html
assay-functions html
coerce-functions html
** building package indices
** installing vignettes
** testing if installed package can be loaded from temporary location
** testing if installed package can be loaded from final location
** testing if installed package keeps a record of temporary installation path
install for x64
* installing *source* package 'RaggedExperiment' ...
** testing if installed package can be loaded
* MD5 sums
packaged installation of 'RaggedExperiment' as RaggedExperiment_1.7.5.zip
* DONE (RaggedExperiment)