| Back to Multiple platform build/check report for BioC 3.9 |
|
This page was generated on 2019-04-09 12:31:56 -0400 (Tue, 09 Apr 2019).
| Package 1416/1703 | Hostname | OS / Arch | INSTALL | BUILD | CHECK | BUILD BIN | ||||||
| RVS 1.5.4 Thomas Sherman
| malbec2 | Linux (Ubuntu 18.04.2 LTS) / x86_64 | OK | OK | OK | |||||||
| tokay2 | Windows Server 2012 R2 Standard / x64 | OK | OK | OK | [ OK ] | |||||||
| celaya2 | OS X 10.11.6 El Capitan / x86_64 | OK | OK | OK | OK | |||||||
| merida2 | OS X 10.11.6 El Capitan / x86_64 | OK | OK | OK | OK |
| Package: RVS |
| Version: 1.5.4 |
| Command: rm -rf RVS.buildbin-libdir && mkdir RVS.buildbin-libdir && C:\Users\biocbuild\bbs-3.9-bioc\R\bin\R.exe CMD INSTALL --merge-multiarch --build --library=RVS.buildbin-libdir RVS_1.5.4.tar.gz |
| StartedAt: 2019-04-09 08:54:15 -0400 (Tue, 09 Apr 2019) |
| EndedAt: 2019-04-09 08:54:43 -0400 (Tue, 09 Apr 2019) |
| EllapsedTime: 27.3 seconds |
| RetCode: 0 |
| Status: OK |
| PackageFile: RVS_1.5.4.zip |
| PackageFileSize: 540.8 KiB |
##############################################################################
##############################################################################
###
### Running command:
###
### rm -rf RVS.buildbin-libdir && mkdir RVS.buildbin-libdir && C:\Users\biocbuild\bbs-3.9-bioc\R\bin\R.exe CMD INSTALL --merge-multiarch --build --library=RVS.buildbin-libdir RVS_1.5.4.tar.gz
###
##############################################################################
##############################################################################
install for i386
* installing *source* package 'RVS' ...
** R
** data
** inst
** byte-compile and prepare package for lazy loading
** help
*** installing help indices
converting help for package 'RVS'
finding HTML links ... done
ComputeKinshipPropCoef-methods html
GeneDrop html
RVS html
RVgene html
RVsharing-methods html
SnpMatrixToCount html
ancestorDistance html
areMating html
checkArgs html
computePFU html
computePhiVec html
convertMatrix html
createNetwork html
denomProb html
enrichmentPValue html
ex.ped.mat html
exactSharingProb html
extract_carriers html
fam15157.vcf html
fam28003.vcf html
founderOccurence html
get.psubset html
inferNumAlleles html
inferTheta html
isDescendant html
marginalProb html
monteCarloSharingProb html
multipleFamilyPValue html
multipleVariantPValue html
numerProb html
oldArgs html
oneFounderSharingProb html
oneFounderSharingProbSplitting html
ped2trio html
processPedigree-methods html
relatedFoundersCorrection html
runMonteCarlo html
samplePedigrees html
simulatePedigree html
snpMat html
twoFounderSharingProb html
** building package indices
** installing vignettes
** testing if installed package can be loaded from temporary location
** testing if installed package can be loaded from final location
** testing if installed package keeps a record of temporary installation path
install for x64
* installing *source* package 'RVS' ...
** testing if installed package can be loaded
* MD5 sums
packaged installation of 'RVS' as RVS_1.5.4.zip
* DONE (RVS)