| Back to Multiple platform build/check report for BioC 3.9 |
|
This page was generated on 2019-04-09 12:20:48 -0400 (Tue, 09 Apr 2019).
| Package 1414/1703 | Hostname | OS / Arch | INSTALL | BUILD | CHECK | BUILD BIN | ||||||
| RUVnormalize 1.17.0 Laurent Jacob
| malbec2 | Linux (Ubuntu 18.04.2 LTS) / x86_64 | OK | OK | OK | |||||||
| tokay2 | Windows Server 2012 R2 Standard / x64 | OK | OK | OK | [ OK ] | |||||||
| celaya2 | OS X 10.11.6 El Capitan / x86_64 | OK | OK | OK | OK | |||||||
| merida2 | OS X 10.11.6 El Capitan / x86_64 | OK | OK | OK | OK |
| Package: RUVnormalize |
| Version: 1.17.0 |
| Command: rm -rf RUVnormalize.buildbin-libdir && mkdir RUVnormalize.buildbin-libdir && C:\Users\biocbuild\bbs-3.9-bioc\R\bin\R.exe CMD INSTALL --merge-multiarch --build --library=RUVnormalize.buildbin-libdir RUVnormalize_1.17.0.tar.gz |
| StartedAt: 2019-04-09 08:54:07 -0400 (Tue, 09 Apr 2019) |
| EndedAt: 2019-04-09 08:54:39 -0400 (Tue, 09 Apr 2019) |
| EllapsedTime: 31.4 seconds |
| RetCode: 0 |
| Status: OK |
| PackageFile: RUVnormalize_1.17.0.zip |
| PackageFileSize: 278.8 KiB |
##############################################################################
##############################################################################
###
### Running command:
###
### rm -rf RUVnormalize.buildbin-libdir && mkdir RUVnormalize.buildbin-libdir && C:\Users\biocbuild\bbs-3.9-bioc\R\bin\R.exe CMD INSTALL --merge-multiarch --build --library=RUVnormalize.buildbin-libdir RUVnormalize_1.17.0.tar.gz
###
##############################################################################
##############################################################################
install for i386
* installing *source* package 'RUVnormalize' ...
** R
** demo
** inst
** byte-compile and prepare package for lazy loading
** help
*** installing help indices
converting help for package 'RUVnormalize'
finding HTML links ... done
clScore html
iterativeRUV html
naiveRandRUV html
naiveReplicateRUV html
svdPlot html
** building package indices
** installing vignettes
** testing if installed package can be loaded from temporary location
** testing if installed package can be loaded from final location
** testing if installed package keeps a record of temporary installation path
install for x64
* installing *source* package 'RUVnormalize' ...
** testing if installed package can be loaded
* MD5 sums
packaged installation of 'RUVnormalize' as RUVnormalize_1.17.0.zip
* DONE (RUVnormalize)