| Back to Multiple platform build/check report for BioC 3.9 | 
  | 
This page was generated on 2019-04-09 13:13:51 -0400 (Tue, 09 Apr 2019).
| Package 1413/1703 | Hostname | OS / Arch | INSTALL | BUILD | CHECK | BUILD BIN | ||||||
| RUVcorr 1.15.0 Saskia Freytag 
  | malbec2 | Linux (Ubuntu 18.04.2 LTS) / x86_64 | OK | OK | OK | |||||||
| tokay2 | Windows Server 2012 R2 Standard / x64 | OK | OK | OK | OK | |||||||
| celaya2 | OS X 10.11.6 El Capitan / x86_64 | OK | [ OK ] | OK | OK | |||||||
| merida2 | OS X 10.11.6 El Capitan / x86_64 | OK | OK | OK | OK | 
| Package: RUVcorr | 
| Version: 1.15.0 | 
| Command: /Library/Frameworks/R.framework/Versions/Current/Resources/bin/R CMD build --keep-empty-dirs --no-resave-data RUVcorr | 
| StartedAt: 2019-04-08 21:18:01 -0400 (Mon, 08 Apr 2019) | 
| EndedAt: 2019-04-08 21:19:21 -0400 (Mon, 08 Apr 2019) | 
| EllapsedTime: 80.0 seconds | 
| RetCode: 0 | 
| Status: OK | 
| PackageFile: RUVcorr_1.15.0.tar.gz | 
| PackageFileSize: 549 KiB | 
##############################################################################
##############################################################################
###
### Running command:
###
###   /Library/Frameworks/R.framework/Versions/Current/Resources/bin/R CMD build --keep-empty-dirs --no-resave-data RUVcorr
###
##############################################################################
##############################################################################
* checking for file ‘RUVcorr/DESCRIPTION’ ... OK
* preparing ‘RUVcorr’:
* checking DESCRIPTION meta-information ... OK
* installing the package to build vignettes
* creating vignettes ... OK
Warning: ‘inst/doc’ file
    ‘RUVcorrVignetteNew.pdf’
  ignored as vignettes have been rebuilt.
  Run R CMD build with --no-build-vignettes to prevent rebuilding.
* checking for LF line-endings in source and make files and shell scripts
* checking for empty or unneeded directories
* building ‘RUVcorr_1.15.0.tar.gz’