| Back to Multiple platform build/check report for BioC 3.9 |
|
This page was generated on 2019-04-09 12:20:03 -0400 (Tue, 09 Apr 2019).
| Package 1415/1703 | Hostname | OS / Arch | INSTALL | BUILD | CHECK | BUILD BIN | ||||||
| RUVSeq 1.17.1 Davide Risso
| malbec2 | Linux (Ubuntu 18.04.2 LTS) / x86_64 | OK | OK | OK | |||||||
| tokay2 | Windows Server 2012 R2 Standard / x64 | [ OK ] | OK | OK | OK | |||||||
| celaya2 | OS X 10.11.6 El Capitan / x86_64 | OK | OK | OK | OK | |||||||
| merida2 | OS X 10.11.6 El Capitan / x86_64 | OK | OK | OK | OK |
| Package: RUVSeq |
| Version: 1.17.1 |
| Command: C:\cygwin\bin\curl.exe -O https://malbec2.bioconductor.org/BBS/3.9/bioc/src/contrib/RUVSeq_1.17.1.tar.gz && rm -rf RUVSeq.buildbin-libdir && mkdir RUVSeq.buildbin-libdir && C:\Users\biocbuild\bbs-3.9-bioc\R\bin\R.exe CMD INSTALL --merge-multiarch --build --library=RUVSeq.buildbin-libdir RUVSeq_1.17.1.tar.gz && C:\Users\biocbuild\bbs-3.9-bioc\R\bin\R.exe CMD INSTALL RUVSeq_1.17.1.zip && rm RUVSeq_1.17.1.tar.gz RUVSeq_1.17.1.zip |
| StartedAt: 2019-04-08 20:05:05 -0400 (Mon, 08 Apr 2019) |
| EndedAt: 2019-04-08 20:05:58 -0400 (Mon, 08 Apr 2019) |
| EllapsedTime: 53.4 seconds |
| RetCode: 0 |
| Status: OK |
##############################################################################
##############################################################################
###
### Running command:
###
### C:\cygwin\bin\curl.exe -O https://malbec2.bioconductor.org/BBS/3.9/bioc/src/contrib/RUVSeq_1.17.1.tar.gz && rm -rf RUVSeq.buildbin-libdir && mkdir RUVSeq.buildbin-libdir && C:\Users\biocbuild\bbs-3.9-bioc\R\bin\R.exe CMD INSTALL --merge-multiarch --build --library=RUVSeq.buildbin-libdir RUVSeq_1.17.1.tar.gz && C:\Users\biocbuild\bbs-3.9-bioc\R\bin\R.exe CMD INSTALL RUVSeq_1.17.1.zip && rm RUVSeq_1.17.1.tar.gz RUVSeq_1.17.1.zip
###
##############################################################################
##############################################################################
% Total % Received % Xferd Average Speed Time Time Time Current
Dload Upload Total Spent Left Speed
0 0 0 0 0 0 0 0 --:--:-- --:--:-- --:--:-- 0
100 16072 100 16072 0 0 231k 0 --:--:-- --:--:-- --:--:-- 261k
install for i386
* installing *source* package 'RUVSeq' ...
** R
** inst
** byte-compile and prepare package for lazy loading
** help
*** installing help indices
converting help for package 'RUVSeq'
finding HTML links ... done
RUVSeq-package html
RUVg html
finding level-2 HTML links ... done
RUVr html
RUVs html
makeGroups html
residuals.DGEGLM html
** building package indices
** installing vignettes
** testing if installed package can be loaded from temporary location
** testing if installed package can be loaded from final location
** testing if installed package keeps a record of temporary installation path
install for x64
* installing *source* package 'RUVSeq' ...
** testing if installed package can be loaded
* MD5 sums
packaged installation of 'RUVSeq' as RUVSeq_1.17.1.zip
* DONE (RUVSeq)
* installing to library 'C:/Users/biocbuild/bbs-3.9-bioc/R/library'
package 'RUVSeq' successfully unpacked and MD5 sums checked