| Back to Multiple platform build/check report for BioC 3.9 |
|
This page was generated on 2019-04-09 11:59:43 -0400 (Tue, 09 Apr 2019).
| Package 1407/1703 | Hostname | OS / Arch | INSTALL | BUILD | CHECK | BUILD BIN | ||||||
| RTopper 1.29.0 Luigi Marchionni
| malbec2 | Linux (Ubuntu 18.04.2 LTS) / x86_64 | OK | OK | OK | |||||||
| tokay2 | Windows Server 2012 R2 Standard / x64 | OK | OK | WARNINGS | [ OK ] | |||||||
| celaya2 | OS X 10.11.6 El Capitan / x86_64 | OK | OK | OK | OK | |||||||
| merida2 | OS X 10.11.6 El Capitan / x86_64 | OK | OK | OK | OK |
| Package: RTopper |
| Version: 1.29.0 |
| Command: rm -rf RTopper.buildbin-libdir && mkdir RTopper.buildbin-libdir && C:\Users\biocbuild\bbs-3.9-bioc\R\bin\R.exe CMD INSTALL --merge-multiarch --build --library=RTopper.buildbin-libdir RTopper_1.29.0.tar.gz |
| StartedAt: 2019-04-09 08:53:40 -0400 (Tue, 09 Apr 2019) |
| EndedAt: 2019-04-09 08:54:27 -0400 (Tue, 09 Apr 2019) |
| EllapsedTime: 47.2 seconds |
| RetCode: 0 |
| Status: OK |
| PackageFile: RTopper_1.29.0.zip |
| PackageFileSize: 1.304 MiB |
##############################################################################
##############################################################################
###
### Running command:
###
### rm -rf RTopper.buildbin-libdir && mkdir RTopper.buildbin-libdir && C:\Users\biocbuild\bbs-3.9-bioc\R\bin\R.exe CMD INSTALL --merge-multiarch --build --library=RTopper.buildbin-libdir RTopper_1.29.0.tar.gz
###
##############################################################################
##############################################################################
install for i386
* installing *source* package 'RTopper' ...
** R
** data
** inst
** byte-compile and prepare package for lazy loading
** help
*** installing help indices
converting help for package 'RTopper'
finding HTML links ... done
RTopper-package html
adjustPvalGSE html
finding level-2 HTML links ... done
combineGSE html
computeDrStat html
convertToDr html
dat html
fgsList html
Rd warning: C:/Users/biocbuild/bbs-3.9-bioc/tmpdir/RtmpO6i8z4/R.INSTALL844355a400e/RTopper/man/fgsList.Rd:37: file link 'org.Hs.eg' in package 'org.Hs.eg.db' does not exist and so has been treated as a topic
Rd warning: C:/Users/biocbuild/bbs-3.9-bioc/tmpdir/RtmpO6i8z4/R.INSTALL844355a400e/RTopper/man/fgsList.Rd:41: file link 'GO' in package 'GO.db' does not exist and so has been treated as a topic
Rd warning: C:/Users/biocbuild/bbs-3.9-bioc/tmpdir/RtmpO6i8z4/R.INSTALL844355a400e/RTopper/man/fgsList.Rd:42: file link 'KEGG' in package 'KEGG.db' does not exist and so has been treated as a topic
gseResultsSep html
intScores html
pheno html
runBatchGSE html
sepScores html
** building package indices
** installing vignettes
** testing if installed package can be loaded from temporary location
** testing if installed package can be loaded from final location
** testing if installed package keeps a record of temporary installation path
install for x64
* installing *source* package 'RTopper' ...
** testing if installed package can be loaded
* MD5 sums
packaged installation of 'RTopper' as RTopper_1.29.0.zip
* DONE (RTopper)