| Back to Multiple platform build/check report for BioC 3.9 |
|
This page was generated on 2019-04-09 11:57:28 -0400 (Tue, 09 Apr 2019).
| Package 1401/1703 | Hostname | OS / Arch | INSTALL | BUILD | CHECK | BUILD BIN | ||||||
| RTCA 1.35.1 Jitao David Zhang
| malbec2 | Linux (Ubuntu 18.04.2 LTS) / x86_64 | OK | OK | OK | |||||||
| tokay2 | Windows Server 2012 R2 Standard / x64 | [ OK ] | OK | OK | OK | |||||||
| celaya2 | OS X 10.11.6 El Capitan / x86_64 | OK | OK | OK | OK | |||||||
| merida2 | OS X 10.11.6 El Capitan / x86_64 | OK | OK | OK | OK |
| Package: RTCA |
| Version: 1.35.1 |
| Command: C:\cygwin\bin\curl.exe -O https://malbec2.bioconductor.org/BBS/3.9/bioc/src/contrib/RTCA_1.35.1.tar.gz && rm -rf RTCA.buildbin-libdir && mkdir RTCA.buildbin-libdir && C:\Users\biocbuild\bbs-3.9-bioc\R\bin\R.exe CMD INSTALL --merge-multiarch --build --library=RTCA.buildbin-libdir RTCA_1.35.1.tar.gz && C:\Users\biocbuild\bbs-3.9-bioc\R\bin\R.exe CMD INSTALL RTCA_1.35.1.zip && rm RTCA_1.35.1.tar.gz RTCA_1.35.1.zip |
| StartedAt: 2019-04-08 18:34:40 -0400 (Mon, 08 Apr 2019) |
| EndedAt: 2019-04-08 18:35:14 -0400 (Mon, 08 Apr 2019) |
| EllapsedTime: 34.1 seconds |
| RetCode: 0 |
| Status: OK |
##############################################################################
##############################################################################
###
### Running command:
###
### C:\cygwin\bin\curl.exe -O https://malbec2.bioconductor.org/BBS/3.9/bioc/src/contrib/RTCA_1.35.1.tar.gz && rm -rf RTCA.buildbin-libdir && mkdir RTCA.buildbin-libdir && C:\Users\biocbuild\bbs-3.9-bioc\R\bin\R.exe CMD INSTALL --merge-multiarch --build --library=RTCA.buildbin-libdir RTCA_1.35.1.tar.gz && C:\Users\biocbuild\bbs-3.9-bioc\R\bin\R.exe CMD INSTALL RTCA_1.35.1.zip && rm RTCA_1.35.1.tar.gz RTCA_1.35.1.zip
###
##############################################################################
##############################################################################
% Total % Received % Xferd Average Speed Time Time Time Current
Dload Upload Total Spent Left Speed
0 0 0 0 0 0 0 0 --:--:-- --:--:-- --:--:-- 0
100 57147 100 57147 0 0 750k 0 --:--:-- --:--:-- --:--:-- 832k
install for i386
* installing *source* package 'RTCA' ...
** R
** inst
** byte-compile and prepare package for lazy loading
** help
*** installing help indices
converting help for package 'RTCA'
finding HTML links ... done
RTCA-class html
finding level-2 HTML links ... done
RTCAtimeline-class html
alphaNames html
combineRTCA html
controlView html
derivativeTransform html
factor2numeric html
interpolationTransform html
nearestTimeIndex html
parseRTCA html
plateView html
plotGridEffect html
ratioTransform html
rgrTransform html
sliceRTCA html
smoothTransform html
spectramaxImport html
** building package indices
** installing vignettes
** testing if installed package can be loaded from temporary location
** testing if installed package can be loaded from final location
** testing if installed package keeps a record of temporary installation path
install for x64
* installing *source* package 'RTCA' ...
** testing if installed package can be loaded
* MD5 sums
packaged installation of 'RTCA' as RTCA_1.35.1.zip
* DONE (RTCA)
* installing to library 'C:/Users/biocbuild/bbs-3.9-bioc/R/library'
package 'RTCA' successfully unpacked and MD5 sums checked