| Back to Multiple platform build/check report for BioC 3.9 | 
 | 
This page was generated on 2019-04-09 13:24:51 -0400 (Tue, 09 Apr 2019).
| Package 1384/1703 | Hostname | OS / Arch | INSTALL | BUILD | CHECK | BUILD BIN | ||||||
| RPA 1.39.0 Leo Lahti 
 | malbec2 | Linux (Ubuntu 18.04.2 LTS) / x86_64 | OK | OK | OK |  | ||||||
| tokay2 | Windows Server 2012 R2 Standard / x64 | OK | OK | OK | OK |  | ||||||
| celaya2 | OS X 10.11.6 El Capitan / x86_64 | OK | OK | OK | OK |  | ||||||
| merida2 | OS X 10.11.6 El Capitan / x86_64 | OK | OK | OK | [ OK ] | 
| Package: RPA | 
| Version: 1.39.0 | 
| Command: rm -rf RPA.buildbin-libdir && mkdir RPA.buildbin-libdir && /Users/biocbuild/BBS/utils/build-universal.sh RPA_1.39.0.tar.gz /Library/Frameworks/R.framework/Versions/Current/Resources/bin/R RPA.buildbin-libdir | 
| StartedAt: 2019-04-09 06:22:18 -0400 (Tue, 09 Apr 2019) | 
| EndedAt: 2019-04-09 06:23:23 -0400 (Tue, 09 Apr 2019) | 
| EllapsedTime: 65.5 seconds | 
| RetCode: 0 | 
| Status: OK | 
| PackageFile: RPA_1.39.0.tgz | 
| PackageFileSize: 386.5 KiB | 
############################################################################## ############################################################################## ### ### Running command: ### ### rm -rf RPA.buildbin-libdir && mkdir RPA.buildbin-libdir && /Users/biocbuild/BBS/utils/build-universal.sh RPA_1.39.0.tar.gz /Library/Frameworks/R.framework/Versions/Current/Resources/bin/R RPA.buildbin-libdir ### ############################################################################## ############################################################################## >>>>>>> >>>>>>> INSTALLATION WITH 'R CMD INSTALL --preclean --no-multiarch --library=RPA.buildbin-libdir RPA_1.39.0.tar.gz' >>>>>>> * installing *source* package ‘RPA’ ... ** R ** inst ** byte-compile and prepare package for lazy loading ** help *** installing help indices ** building package indices ** installing vignettes ** testing if installed package can be loaded * DONE (RPA)