| Back to Multiple platform build/check report for BioC 3.9 | 
 | 
This page was generated on 2019-04-09 12:23:07 -0400 (Tue, 09 Apr 2019).
| Package 1369/1703 | Hostname | OS / Arch | INSTALL | BUILD | CHECK | BUILD BIN | ||||||
| RNAprobR 1.15.0 Nikos Sidiropoulos 
 | malbec2 | Linux (Ubuntu 18.04.2 LTS) / x86_64 | OK | OK | OK |  | ||||||
| tokay2 | Windows Server 2012 R2 Standard / x64 | [ OK ] | OK | OK | OK |  | ||||||
| celaya2 | OS X 10.11.6 El Capitan / x86_64 | OK | OK | OK | OK |  | ||||||
| merida2 | OS X 10.11.6 El Capitan / x86_64 | OK | OK | OK | OK | 
| Package: RNAprobR | 
| Version: 1.15.0 | 
| Command: C:\cygwin\bin\curl.exe -O https://malbec2.bioconductor.org/BBS/3.9/bioc/src/contrib/RNAprobR_1.15.0.tar.gz && rm -rf RNAprobR.buildbin-libdir && mkdir RNAprobR.buildbin-libdir && C:\Users\biocbuild\bbs-3.9-bioc\R\bin\R.exe CMD INSTALL --merge-multiarch --build --library=RNAprobR.buildbin-libdir RNAprobR_1.15.0.tar.gz && C:\Users\biocbuild\bbs-3.9-bioc\R\bin\R.exe CMD INSTALL RNAprobR_1.15.0.zip && rm RNAprobR_1.15.0.tar.gz RNAprobR_1.15.0.zip | 
| StartedAt: 2019-04-08 20:16:52 -0400 (Mon, 08 Apr 2019) | 
| EndedAt: 2019-04-08 20:18:02 -0400 (Mon, 08 Apr 2019) | 
| EllapsedTime: 69.5 seconds | 
| RetCode: 0 | 
| Status: OK | 
##############################################################################
##############################################################################
###
### Running command:
###
###   C:\cygwin\bin\curl.exe -O https://malbec2.bioconductor.org/BBS/3.9/bioc/src/contrib/RNAprobR_1.15.0.tar.gz && rm -rf RNAprobR.buildbin-libdir && mkdir RNAprobR.buildbin-libdir && C:\Users\biocbuild\bbs-3.9-bioc\R\bin\R.exe CMD INSTALL --merge-multiarch --build --library=RNAprobR.buildbin-libdir RNAprobR_1.15.0.tar.gz && C:\Users\biocbuild\bbs-3.9-bioc\R\bin\R.exe CMD INSTALL RNAprobR_1.15.0.zip && rm RNAprobR_1.15.0.tar.gz RNAprobR_1.15.0.zip
###
##############################################################################
##############################################################################
  % Total    % Received % Xferd  Average Speed   Time    Time     Time  Current
                                 Dload  Upload   Total   Spent    Left  Speed
  0     0    0     0    0     0      0      0 --:--:-- --:--:-- --:--:--     0
100  332k  100  332k    0     0  4434k      0 --:--:-- --:--:-- --:--:-- 4894k
install for i386
* installing *source* package 'RNAprobR' ...
** R
** inst
** byte-compile and prepare package for lazy loading
** help
*** installing help indices
  converting help for package 'RNAprobR'
    finding HTML links ... done
    BED2txDb                                html  
    GR2norm_df                              html  
    bam2bedgraph                            html  
    bedgraph2norm                           html  
    comp                                    html  
    compdata                                html  
    correct_oversaturation                  html  
    dtcr                                    html  
    k2n_calc                                html  
    norm2bedgraph                           html  
    norm_df2GR                              html  
    plotRNA                                 html  
    plotReads                               html  
    readsamples                             html  
    slograt                                 html  
    swinsor                                 html  
    swinsor_vector                          html  
    winsor                                  html  
** building package indices
** installing vignettes
** testing if installed package can be loaded from temporary location
** testing if installed package can be loaded from final location
** testing if installed package keeps a record of temporary installation path
install for x64
* installing *source* package 'RNAprobR' ...
** testing if installed package can be loaded
* MD5 sums
packaged installation of 'RNAprobR' as RNAprobR_1.15.0.zip
* DONE (RNAprobR)
* installing to library 'C:/Users/biocbuild/bbs-3.9-bioc/R/library'
package 'RNAprobR' successfully unpacked and MD5 sums checked