| Back to Multiple platform build/check report for BioC 3.9 | 
 | 
This page was generated on 2019-04-09 12:38:52 -0400 (Tue, 09 Apr 2019).
| Package 1366/1703 | Hostname | OS / Arch | INSTALL | BUILD | CHECK | BUILD BIN | ||||||
| RNAdecay 1.3.1 Reed Sorenson 
 | malbec2 | Linux (Ubuntu 18.04.2 LTS) / x86_64 | OK | OK | WARNINGS |  | ||||||
| tokay2 | Windows Server 2012 R2 Standard / x64 | OK | OK | WARNINGS | [ ERROR ] | |||||||
| celaya2 | OS X 10.11.6 El Capitan / x86_64 | OK | OK | WARNINGS | OK |  | ||||||
| merida2 | OS X 10.11.6 El Capitan / x86_64 | OK | OK | WARNINGS | OK | 
| Package: RNAdecay | 
| Version: 1.3.1 | 
| Command: rm -rf RNAdecay.buildbin-libdir && mkdir RNAdecay.buildbin-libdir && C:\Users\biocbuild\bbs-3.9-bioc\R\bin\R.exe CMD INSTALL --merge-multiarch --build --library=RNAdecay.buildbin-libdir RNAdecay_1.3.1.tar.gz | 
| StartedAt: 2019-04-09 08:51:16 -0400 (Tue, 09 Apr 2019) | 
| EndedAt: 2019-04-09 08:51:51 -0400 (Tue, 09 Apr 2019) | 
| EllapsedTime: 35.5 seconds | 
| RetCode: 1 | 
| Status: ERROR | 
| PackageFile: None | 
| PackageFileSize: NA | 
##############################################################################
##############################################################################
###
### Running command:
###
###   rm -rf RNAdecay.buildbin-libdir && mkdir RNAdecay.buildbin-libdir && C:\Users\biocbuild\bbs-3.9-bioc\R\bin\R.exe CMD INSTALL --merge-multiarch --build --library=RNAdecay.buildbin-libdir RNAdecay_1.3.1.tar.gz
###
##############################################################################
##############################################################################
install for i386
* installing *source* package 'RNAdecay' ...
** libs
  running 'src/Makefile.win' ...
make: Nothing to be done for `all'.
installing to C:/Users/biocbuild/bbs-3.9-bioc/meat/RNAdecay.buildbin-libdir/00LOCK-RNAdecay/00new/RNAdecay/libs/i386
** R
** data
*** moving datasets to lazyload DB
** inst
** byte-compile and prepare package for lazy loading
** help
*** installing help indices
  converting help for package 'RNAdecay'
    finding HTML links ... done
    RPMs                                    html  
    a_high                                  html  
    aic                                     html  
    cols                                    html  
    comb_cv                                 html  
    const_decay                             html  
    constraint_fun_list_maker               html  
    decay_data                              html  
    decay_plot                              html  
    fit_var                                 html  
    group_map                               html  
    groupings                               html  
    log_lik                                 html  
    mod_optimization                        html  
    models                                  html  
    n_par                                   html  
    plain_theme                             html  
    results                                 html  
    sse_null_decaying_decay                 html  
** building package indices
** installing vignettes
** testing if installed package can be loaded from temporary location
Error: package or namespace load failed for 'RNAdecay' in inDL(x, as.logical(local), as.logical(now), ...):
 unable to load shared object 'C:/Users/biocbuild/bbs-3.9-bioc/meat/RNAdecay.buildbin-libdir/00LOCK-RNAdecay/00new/RNAdecay/libs/i386/general_Exp_1sse.dll':
  LoadLibrary failure:  %1 is not a valid Win32 application.
Error: loading failed
Execution halted
ERROR: loading failed
* removing 'C:/Users/biocbuild/bbs-3.9-bioc/meat/RNAdecay.buildbin-libdir/RNAdecay'