| Back to Multiple platform build/check report for BioC 3.9 | 
 | 
This page was generated on 2019-04-09 13:27:59 -0400 (Tue, 09 Apr 2019).
| Package 1372/1703 | Hostname | OS / Arch | INSTALL | BUILD | CHECK | BUILD BIN | ||||||
| RNASeqPower 1.23.1 Terry M Therneau 
 | malbec2 | Linux (Ubuntu 18.04.2 LTS) / x86_64 | OK | OK | OK |  | ||||||
| tokay2 | Windows Server 2012 R2 Standard / x64 | OK | OK | OK | OK |  | ||||||
| celaya2 | OS X 10.11.6 El Capitan / x86_64 | OK | OK | OK | OK |  | ||||||
| merida2 | OS X 10.11.6 El Capitan / x86_64 | OK | OK | OK | [ OK ] | 
| Package: RNASeqPower | 
| Version: 1.23.1 | 
| Command: rm -rf RNASeqPower.buildbin-libdir && mkdir RNASeqPower.buildbin-libdir && /Users/biocbuild/BBS/utils/build-universal.sh RNASeqPower_1.23.1.tar.gz /Library/Frameworks/R.framework/Versions/Current/Resources/bin/R RNASeqPower.buildbin-libdir | 
| StartedAt: 2019-04-09 06:21:27 -0400 (Tue, 09 Apr 2019) | 
| EndedAt: 2019-04-09 06:22:31 -0400 (Tue, 09 Apr 2019) | 
| EllapsedTime: 64.5 seconds | 
| RetCode: 0 | 
| Status: OK | 
| PackageFile: RNASeqPower_1.23.1.tgz | 
| PackageFileSize: 156.3 KiB | 
############################################################################## ############################################################################## ### ### Running command: ### ### rm -rf RNASeqPower.buildbin-libdir && mkdir RNASeqPower.buildbin-libdir && /Users/biocbuild/BBS/utils/build-universal.sh RNASeqPower_1.23.1.tar.gz /Library/Frameworks/R.framework/Versions/Current/Resources/bin/R RNASeqPower.buildbin-libdir ### ############################################################################## ############################################################################## >>>>>>> >>>>>>> INSTALLATION WITH 'R CMD INSTALL --preclean --no-multiarch --library=RNASeqPower.buildbin-libdir RNASeqPower_1.23.1.tar.gz' >>>>>>> * installing *source* package ‘RNASeqPower’ ... ** R ** inst ** byte-compile and prepare package for lazy loading ** help *** installing help indices ** building package indices ** installing vignettes ** testing if installed package can be loaded * DONE (RNASeqPower)