| Back to Multiple platform build/check report for BioC 3.9 | 
 | 
This page was generated on 2019-04-09 13:23:10 -0400 (Tue, 09 Apr 2019).
| Package 1359/1703 | Hostname | OS / Arch | INSTALL | BUILD | CHECK | BUILD BIN | ||||||
| RLMM 1.45.0 Nusrat Rabbee 
 | malbec2 | Linux (Ubuntu 18.04.2 LTS) / x86_64 | OK | OK | OK |  | ||||||
| tokay2 | Windows Server 2012 R2 Standard / x64 | OK | OK | OK | OK |  | ||||||
| celaya2 | OS X 10.11.6 El Capitan / x86_64 | OK | OK | OK | OK |  | ||||||
| merida2 | OS X 10.11.6 El Capitan / x86_64 | OK | OK | OK | [ OK ] | 
| Package: RLMM | 
| Version: 1.45.0 | 
| Command: rm -rf RLMM.buildbin-libdir && mkdir RLMM.buildbin-libdir && /Users/biocbuild/BBS/utils/build-universal.sh RLMM_1.45.0.tar.gz /Library/Frameworks/R.framework/Versions/Current/Resources/bin/R RLMM.buildbin-libdir | 
| StartedAt: 2019-04-09 06:20:36 -0400 (Tue, 09 Apr 2019) | 
| EndedAt: 2019-04-09 06:21:42 -0400 (Tue, 09 Apr 2019) | 
| EllapsedTime: 65.4 seconds | 
| RetCode: 0 | 
| Status: OK | 
| PackageFile: RLMM_1.45.0.tgz | 
| PackageFileSize: 203.2 KiB | 
############################################################################## ############################################################################## ### ### Running command: ### ### rm -rf RLMM.buildbin-libdir && mkdir RLMM.buildbin-libdir && /Users/biocbuild/BBS/utils/build-universal.sh RLMM_1.45.0.tar.gz /Library/Frameworks/R.framework/Versions/Current/Resources/bin/R RLMM.buildbin-libdir ### ############################################################################## ############################################################################## >>>>>>> >>>>>>> INSTALLATION WITH 'R CMD INSTALL --preclean --no-multiarch --library=RLMM.buildbin-libdir RLMM_1.45.0.tar.gz' >>>>>>> * installing *source* package ‘RLMM’ ... ** R ** inst ** byte-compile and prepare package for lazy loading ** help *** installing help indices ** building package indices ** installing vignettes ** testing if installed package can be loaded * DONE (RLMM)