| Back to Multiple platform build/check report for BioC 3.9 | 
 | 
This page was generated on 2019-04-09 13:18:08 -0400 (Tue, 09 Apr 2019).
| Package 1357/1703 | Hostname | OS / Arch | INSTALL | BUILD | CHECK | BUILD BIN | ||||||
| RIVER 1.7.0 Yungil Kim 
 | malbec2 | Linux (Ubuntu 18.04.2 LTS) / x86_64 | OK | OK | OK |  | ||||||
| tokay2 | Windows Server 2012 R2 Standard / x64 | OK | OK | WARNINGS | OK |  | ||||||
| celaya2 | OS X 10.11.6 El Capitan / x86_64 | OK | OK | OK | [ OK ] |  | ||||||
| merida2 | OS X 10.11.6 El Capitan / x86_64 | OK | OK | OK | OK | 
| Package: RIVER | 
| Version: 1.7.0 | 
| Command: rm -rf RIVER.buildbin-libdir && mkdir RIVER.buildbin-libdir && /Users/biocbuild/BBS/utils/build-universal.sh RIVER_1.7.0.tar.gz /Library/Frameworks/R.framework/Versions/Current/Resources/bin/R RIVER.buildbin-libdir | 
| StartedAt: 2019-04-09 07:39:57 -0400 (Tue, 09 Apr 2019) | 
| EndedAt: 2019-04-09 07:40:14 -0400 (Tue, 09 Apr 2019) | 
| EllapsedTime: 17.2 seconds | 
| RetCode: 0 | 
| Status: OK | 
| PackageFile: RIVER_1.7.0.tgz | 
| PackageFileSize: 1.527 MiB | 
############################################################################## ############################################################################## ### ### Running command: ### ### rm -rf RIVER.buildbin-libdir && mkdir RIVER.buildbin-libdir && /Users/biocbuild/BBS/utils/build-universal.sh RIVER_1.7.0.tar.gz /Library/Frameworks/R.framework/Versions/Current/Resources/bin/R RIVER.buildbin-libdir ### ############################################################################## ############################################################################## >>>>>>> >>>>>>> INSTALLATION WITH 'R CMD INSTALL --preclean --no-multiarch --library=RIVER.buildbin-libdir RIVER_1.7.0.tar.gz' >>>>>>> * installing *source* package ‘RIVER’ ... ** using staged installation ** R ** inst ** byte-compile and prepare package for lazy loading ** help *** installing help indices ** building package indices ** installing vignettes ** testing if installed package can be loaded from temporary location ** testing if installed package can be loaded from final location ** testing if installed package keeps a record of temporary installation path * DONE (RIVER)