| Back to Multiple platform build/check report for BioC 3.9 | 
 | 
This page was generated on 2019-04-09 13:27:40 -0400 (Tue, 09 Apr 2019).
| Package 1354/1703 | Hostname | OS / Arch | INSTALL | BUILD | CHECK | BUILD BIN | ||||||
| RIPSeeker 1.23.0 Yue Li 
 | malbec2 | Linux (Ubuntu 18.04.2 LTS) / x86_64 | OK | OK | OK |  | ||||||
| tokay2 | Windows Server 2012 R2 Standard / x64 | OK | OK | WARNINGS | OK |  | ||||||
| celaya2 | OS X 10.11.6 El Capitan / x86_64 | OK | OK | OK | OK |  | ||||||
| merida2 | OS X 10.11.6 El Capitan / x86_64 | OK | OK | OK | [ OK ] | 
| Package: RIPSeeker | 
| Version: 1.23.0 | 
| Command: rm -rf RIPSeeker.buildbin-libdir && mkdir RIPSeeker.buildbin-libdir && /Users/biocbuild/BBS/utils/build-universal.sh RIPSeeker_1.23.0.tar.gz /Library/Frameworks/R.framework/Versions/Current/Resources/bin/R RIPSeeker.buildbin-libdir | 
| StartedAt: 2019-04-09 06:20:14 -0400 (Tue, 09 Apr 2019) | 
| EndedAt: 2019-04-09 06:21:13 -0400 (Tue, 09 Apr 2019) | 
| EllapsedTime: 59.3 seconds | 
| RetCode: 0 | 
| Status: OK | 
| PackageFile: RIPSeeker_1.23.0.tgz | 
| PackageFileSize: 1.982 MiB | 
############################################################################## ############################################################################## ### ### Running command: ### ### rm -rf RIPSeeker.buildbin-libdir && mkdir RIPSeeker.buildbin-libdir && /Users/biocbuild/BBS/utils/build-universal.sh RIPSeeker_1.23.0.tar.gz /Library/Frameworks/R.framework/Versions/Current/Resources/bin/R RIPSeeker.buildbin-libdir ### ############################################################################## ############################################################################## >>>>>>> >>>>>>> INSTALLATION WITH 'R CMD INSTALL --preclean --no-multiarch --library=RIPSeeker.buildbin-libdir RIPSeeker_1.23.0.tar.gz' >>>>>>> * installing *source* package ‘RIPSeeker’ ... ** R ** inst ** byte-compile and prepare package for lazy loading ** help *** installing help indices ** building package indices ** installing vignettes ** testing if installed package can be loaded * DONE (RIPSeeker)