| Back to Multiple platform build/check report for BioC 3.9 | 
  | 
This page was generated on 2019-04-09 12:00:50 -0400 (Tue, 09 Apr 2019).
| Package 1336/1703 | Hostname | OS / Arch | INSTALL | BUILD | CHECK | BUILD BIN | ||||||
| RGalaxy 1.27.0 Bioconductor Package Maintainer 
  | malbec2 | Linux (Ubuntu 18.04.2 LTS) / x86_64 | OK | OK | OK | |||||||
| tokay2 | Windows Server 2012 R2 Standard / x64 | OK | OK | OK | [ OK ] | |||||||
| celaya2 | OS X 10.11.6 El Capitan / x86_64 | OK | OK | OK | OK | |||||||
| merida2 | OS X 10.11.6 El Capitan / x86_64 | OK | OK | OK | OK | 
| Package: RGalaxy | 
| Version: 1.27.0 | 
| Command: rm -rf RGalaxy.buildbin-libdir && mkdir RGalaxy.buildbin-libdir && C:\Users\biocbuild\bbs-3.9-bioc\R\bin\R.exe CMD INSTALL --merge-multiarch --build --library=RGalaxy.buildbin-libdir RGalaxy_1.27.0.tar.gz | 
| StartedAt: 2019-04-09 08:49:29 -0400 (Tue, 09 Apr 2019) | 
| EndedAt: 2019-04-09 08:49:45 -0400 (Tue, 09 Apr 2019) | 
| EllapsedTime: 15.8 seconds | 
| RetCode: 0 | 
| Status: OK | 
| PackageFile: RGalaxy_1.27.0.zip | 
| PackageFileSize: 316.6 KiB | 
##############################################################################
##############################################################################
###
### Running command:
###
###   rm -rf RGalaxy.buildbin-libdir && mkdir RGalaxy.buildbin-libdir && C:\Users\biocbuild\bbs-3.9-bioc\R\bin\R.exe CMD INSTALL --merge-multiarch --build --library=RGalaxy.buildbin-libdir RGalaxy_1.27.0.tar.gz
###
##############################################################################
##############################################################################
install for i386
* installing *source* package 'RGalaxy' ...
** R
** inst
** byte-compile and prepare package for lazy loading
** help
*** installing help indices
  converting help for package 'RGalaxy'
    finding HTML links ... done
    GalaxyClasses                           html  
    GalaxyConfig-class                      html  
    GalaxyInputFile-class                   html  
    GalaxyOutput-class                      html  
    RserveConnection-class                  html  
    addTwoNumbers                           html  
    addTwoNumbersWithTest                   html  
    anotherTestFunction                     html  
    foo                                     html  
    functionToGalaxify                      html  
    galaxy                                  html  
    getFriendlyName                         html  
    probeLookup                             html  
    runFunctionalTest                       html  
    testFunctionWithGalaxySelectParam       html  
    testFunctionWithSelect                  html  
    utilities                               html  
** building package indices
** installing vignettes
** testing if installed package can be loaded from temporary location
** testing if installed package can be loaded from final location
** testing if installed package keeps a record of temporary installation path
install for x64
* installing *source* package 'RGalaxy' ...
** testing if installed package can be loaded
* MD5 sums
packaged installation of 'RGalaxy' as RGalaxy_1.27.0.zip
* DONE (RGalaxy)