| Back to Multiple platform build/check report for BioC 3.9 | 
 | 
This page was generated on 2019-04-09 13:25:51 -0400 (Tue, 09 Apr 2019).
| Package 1322/1703 | Hostname | OS / Arch | INSTALL | BUILD | CHECK | BUILD BIN | ||||||
| REDseq 1.29.0 Lihua Julie Zhu 
 | malbec2 | Linux (Ubuntu 18.04.2 LTS) / x86_64 | OK | OK | OK |  | ||||||
| tokay2 | Windows Server 2012 R2 Standard / x64 | OK | OK | OK | OK |  | ||||||
| celaya2 | OS X 10.11.6 El Capitan / x86_64 | OK | OK | OK | OK |  | ||||||
| merida2 | OS X 10.11.6 El Capitan / x86_64 | OK | OK | OK | [ OK ] | 
| Package: REDseq | 
| Version: 1.29.0 | 
| Command: rm -rf REDseq.buildbin-libdir && mkdir REDseq.buildbin-libdir && /Users/biocbuild/BBS/utils/build-universal.sh REDseq_1.29.0.tar.gz /Library/Frameworks/R.framework/Versions/Current/Resources/bin/R REDseq.buildbin-libdir | 
| StartedAt: 2019-04-09 06:17:58 -0400 (Tue, 09 Apr 2019) | 
| EndedAt: 2019-04-09 06:19:16 -0400 (Tue, 09 Apr 2019) | 
| EllapsedTime: 78.1 seconds | 
| RetCode: 0 | 
| Status: OK | 
| PackageFile: REDseq_1.29.0.tgz | 
| PackageFileSize: 233 KiB | 
############################################################################## ############################################################################## ### ### Running command: ### ### rm -rf REDseq.buildbin-libdir && mkdir REDseq.buildbin-libdir && /Users/biocbuild/BBS/utils/build-universal.sh REDseq_1.29.0.tar.gz /Library/Frameworks/R.framework/Versions/Current/Resources/bin/R REDseq.buildbin-libdir ### ############################################################################## ############################################################################## >>>>>>> >>>>>>> INSTALLATION WITH 'R CMD INSTALL --preclean --no-multiarch --library=REDseq.buildbin-libdir REDseq_1.29.0.tar.gz' >>>>>>> * installing *source* package ‘REDseq’ ... ** R ** data ** inst ** byte-compile and prepare package for lazy loading No methods found in package 'IRanges' for requests: '%in%', 'rep.int' when loading 'REDseq' ** help *** installing help indices ** building package indices ** installing vignettes ** testing if installed package can be loaded No methods found in package 'IRanges' for requests: '%in%', 'rep.int' when loading 'REDseq' * DONE (REDseq)