| Back to Multiple platform build/check report for BioC 3.9 | 
 | 
This page was generated on 2019-04-09 13:38:45 -0400 (Tue, 09 Apr 2019).
| Package 1304/1703 | Hostname | OS / Arch | INSTALL | BUILD | CHECK | BUILD BIN | ||||||
| RCM 0.99.1 Joris Meys 
 | malbec2 | Linux (Ubuntu 18.04.2 LTS) / x86_64 | OK | OK | OK |  | ||||||
| tokay2 | Windows Server 2012 R2 Standard / x64 | OK | OK | OK | OK |  | ||||||
| celaya2 | OS X 10.11.6 El Capitan / x86_64 | OK | OK | OK | OK |  | ||||||
| merida2 | OS X 10.11.6 El Capitan / x86_64 | OK | OK | OK | [ OK ] | 
| Package: RCM | 
| Version: 0.99.1 | 
| Command: rm -rf RCM.buildbin-libdir && mkdir RCM.buildbin-libdir && /Users/biocbuild/BBS/utils/build-universal.sh RCM_0.99.1.tar.gz /Library/Frameworks/R.framework/Versions/Current/Resources/bin/R RCM.buildbin-libdir | 
| StartedAt: 2019-04-09 06:16:44 -0400 (Tue, 09 Apr 2019) | 
| EndedAt: 2019-04-09 06:17:44 -0400 (Tue, 09 Apr 2019) | 
| EllapsedTime: 59.4 seconds | 
| RetCode: 0 | 
| Status: OK | 
| PackageFile: RCM_0.99.1.tgz | 
| PackageFileSize: 4.551 MiB | 
############################################################################## ############################################################################## ### ### Running command: ### ### rm -rf RCM.buildbin-libdir && mkdir RCM.buildbin-libdir && /Users/biocbuild/BBS/utils/build-universal.sh RCM_0.99.1.tar.gz /Library/Frameworks/R.framework/Versions/Current/Resources/bin/R RCM.buildbin-libdir ### ############################################################################## ############################################################################## >>>>>>> >>>>>>> INSTALLATION WITH 'R CMD INSTALL --preclean --no-multiarch --library=RCM.buildbin-libdir RCM_0.99.1.tar.gz' >>>>>>> * installing *source* package ‘RCM’ ... ** R ** data *** moving datasets to lazyload DB ** inst ** byte-compile and prepare package for lazy loading ** help *** installing help indices ** building package indices ** installing vignettes ** testing if installed package can be loaded * DONE (RCM)