| Back to Multiple platform build/check report for BioC 3.9 |
|
This page was generated on 2019-04-09 13:16:35 -0400 (Tue, 09 Apr 2019).
| Package 1297/1703 | Hostname | OS / Arch | INSTALL | BUILD | CHECK | BUILD BIN | ||||||
| RCAS 1.9.0 Bora Uyar
| malbec2 | Linux (Ubuntu 18.04.2 LTS) / x86_64 | OK | OK | OK | |||||||
| tokay2 | Windows Server 2012 R2 Standard / x64 | OK | OK | OK | OK | |||||||
| celaya2 | OS X 10.11.6 El Capitan / x86_64 | OK | OK | [ OK ] | OK | |||||||
| merida2 | OS X 10.11.6 El Capitan / x86_64 | OK | OK | OK | OK |
| Package: RCAS |
| Version: 1.9.0 |
| Command: /Library/Frameworks/R.framework/Versions/Current/Resources/bin/R CMD check --install=check:RCAS.install-out.txt --library=/Library/Frameworks/R.framework/Versions/Current/Resources/library --no-vignettes --timings RCAS_1.9.0.tar.gz |
| StartedAt: 2019-04-09 04:47:27 -0400 (Tue, 09 Apr 2019) |
| EndedAt: 2019-04-09 05:06:51 -0400 (Tue, 09 Apr 2019) |
| EllapsedTime: 1163.6 seconds |
| RetCode: 0 |
| Status: OK |
| CheckDir: RCAS.Rcheck |
| Warnings: 0 |
##############################################################################
##############################################################################
###
### Running command:
###
### /Library/Frameworks/R.framework/Versions/Current/Resources/bin/R CMD check --install=check:RCAS.install-out.txt --library=/Library/Frameworks/R.framework/Versions/Current/Resources/library --no-vignettes --timings RCAS_1.9.0.tar.gz
###
##############################################################################
##############################################################################
* using log directory ‘/Users/biocbuild/bbs-3.9-bioc/meat/RCAS.Rcheck’
* using R Under development (unstable) (2019-03-18 r76245)
* using platform: x86_64-apple-darwin15.6.0 (64-bit)
* using session charset: UTF-8
* using option ‘--no-vignettes’
* checking for file ‘RCAS/DESCRIPTION’ ... OK
* checking extension type ... Package
* this is package ‘RCAS’ version ‘1.9.0’
* checking package namespace information ... OK
* checking package dependencies ... OK
* checking if this is a source package ... OK
* checking if there is a namespace ... OK
* checking for hidden files and directories ... OK
* checking for portable file names ... OK
* checking for sufficient/correct file permissions ... OK
* checking whether package ‘RCAS’ can be installed ... OK
* checking installed package size ... OK
* checking package directory ... OK
* checking ‘build’ directory ... OK
* checking DESCRIPTION meta-information ... OK
* checking top-level files ... OK
* checking for left-over files ... OK
* checking index information ... OK
* checking package subdirectories ... OK
* checking R files for non-ASCII characters ... OK
* checking R files for syntax errors ... OK
* checking whether the package can be loaded ... OK
* checking whether the package can be loaded with stated dependencies ... OK
* checking whether the package can be unloaded cleanly ... OK
* checking whether the namespace can be loaded with stated dependencies ... OK
* checking whether the namespace can be unloaded cleanly ... OK
* checking dependencies in R code ... NOTE
Namespace in Imports field not imported from: ‘DBI’
All declared Imports should be used.
* checking S3 generic/method consistency ... OK
* checking replacement functions ... OK
* checking foreign function calls ... OK
* checking R code for possible problems ... OK
* checking Rd files ... OK
* checking Rd metadata ... OK
* checking Rd cross-references ... OK
* checking for missing documentation entries ... OK
* checking for code/documentation mismatches ... OK
* checking Rd \usage sections ... OK
* checking Rd contents ... OK
* checking for unstated dependencies in examples ... OK
* checking contents of ‘data’ directory ... OK
* checking data for non-ASCII characters ... OK
* checking data for ASCII and uncompressed saves ... OK
* checking files in ‘vignettes’ ... OK
* checking examples ... OK
Examples with CPU or elapsed time > 5s
user system elapsed
runMotifRG 54.607 18.923 42.635
getMotifSummaryTable 52.269 19.140 42.793
getFeatureBoundaryCoverageMulti 24.534 3.221 28.089
calculateCoverageProfile 19.413 1.601 21.018
calculateCoverageProfileList 18.360 2.554 20.923
calculateCoverageProfileListFromTxdb 16.568 2.320 18.889
getTargetedGenesTable 15.227 2.168 14.316
summarizeQueryRegionsMulti 14.589 1.825 38.558
summarizeQueryRegions 13.910 1.411 15.462
getTxdbFeaturesFromGRanges 12.509 1.401 14.229
getTxdbFeatures 12.256 1.478 13.532
plotFeatureBoundaryCoverage 8.640 1.400 9.555
calculateCoverageProfileFromTxdb 8.668 0.924 9.592
getFeatureBoundaryCoverageBin 8.009 0.916 9.461
getFeatureBoundaryCoverage 7.440 0.799 8.296
createDB 4.828 0.238 27.155
createOrthologousGeneSetList 1.004 0.061 54.433
retrieveOrthologs 0.879 0.118 35.668
* checking for unstated dependencies in ‘tests’ ... OK
* checking tests ...
Running ‘testthat.R’
OK
* checking for unstated dependencies in vignettes ... OK
* checking package vignettes in ‘inst/doc’ ... OK
* checking running R code from vignettes ... SKIPPED
* checking re-building of vignette outputs ... SKIPPED
* checking PDF version of manual ... OK
* DONE
Status: 1 NOTE
See
‘/Users/biocbuild/bbs-3.9-bioc/meat/RCAS.Rcheck/00check.log’
for details.
RCAS.Rcheck/00install.out
############################################################################## ############################################################################## ### ### Running command: ### ### /Library/Frameworks/R.framework/Versions/Current/Resources/bin/R CMD INSTALL RCAS ### ############################################################################## ############################################################################## * installing to library ‘/Library/Frameworks/R.framework/Versions/3.6/Resources/library’ * installing *source* package ‘RCAS’ ... ** using staged installation ** R ** data *** moving datasets to lazyload DB ** inst ** byte-compile and prepare package for lazy loading groupGOTerms: GOBPTerm, GOMFTerm, GOCCTerm environments built. ** help *** installing help indices ** building package indices ** installing vignettes ** testing if installed package can be loaded from temporary location groupGOTerms: GOBPTerm, GOMFTerm, GOCCTerm environments built. ** testing if installed package can be loaded from final location groupGOTerms: GOBPTerm, GOMFTerm, GOCCTerm environments built. ** testing if installed package keeps a record of temporary installation path * DONE (RCAS)
RCAS.Rcheck/tests/testthat.Rout
R Under development (unstable) (2019-03-18 r76245) -- "Unsuffered Consequences"
Copyright (C) 2019 The R Foundation for Statistical Computing
Platform: x86_64-apple-darwin15.6.0 (64-bit)
R is free software and comes with ABSOLUTELY NO WARRANTY.
You are welcome to redistribute it under certain conditions.
Type 'license()' or 'licence()' for distribution details.
R is a collaborative project with many contributors.
Type 'contributors()' for more information and
'citation()' on how to cite R or R packages in publications.
Type 'demo()' for some demos, 'help()' for on-line help, or
'help.start()' for an HTML browser interface to help.
Type 'q()' to quit R.
> library(testthat)
> library(RCAS)
Loading required package: plotly
Loading required package: ggplot2
Attaching package: 'plotly'
The following object is masked from 'package:ggplot2':
last_plot
The following object is masked from 'package:stats':
filter
The following object is masked from 'package:graphics':
layout
Loading required package: DT
Loading required package: data.table
Loading required package: topGO
Loading required package: BiocGenerics
Loading required package: parallel
Attaching package: 'BiocGenerics'
The following objects are masked from 'package:parallel':
clusterApply, clusterApplyLB, clusterCall, clusterEvalQ,
clusterExport, clusterMap, parApply, parCapply, parLapply,
parLapplyLB, parRapply, parSapply, parSapplyLB
The following objects are masked from 'package:stats':
IQR, mad, sd, var, xtabs
The following objects are masked from 'package:base':
Filter, Find, Map, Position, Reduce, anyDuplicated, append,
as.data.frame, basename, cbind, colMeans, colSums, colnames,
dirname, do.call, duplicated, eval, evalq, get, grep, grepl,
intersect, is.unsorted, lapply, mapply, match, mget, order, paste,
pmax, pmax.int, pmin, pmin.int, rank, rbind, rowMeans, rowSums,
rownames, sapply, setdiff, sort, table, tapply, union, unique,
unsplit, which, which.max, which.min
Loading required package: graph
Loading required package: Biobase
Welcome to Bioconductor
Vignettes contain introductory material; view with
'browseVignettes()'. To cite Bioconductor, see
'citation("Biobase")', and for packages 'citation("pkgname")'.
Loading required package: GO.db
Loading required package: AnnotationDbi
Loading required package: stats4
Loading required package: IRanges
Loading required package: S4Vectors
Attaching package: 'S4Vectors'
The following objects are masked from 'package:data.table':
first, second
The following object is masked from 'package:plotly':
rename
The following object is masked from 'package:base':
expand.grid
Attaching package: 'IRanges'
The following object is masked from 'package:data.table':
shift
The following object is masked from 'package:plotly':
slice
Attaching package: 'AnnotationDbi'
The following object is masked from 'package:plotly':
select
Loading required package: SparseM
Attaching package: 'SparseM'
The following object is masked from 'package:base':
backsolve
groupGOTerms: GOBPTerm, GOMFTerm, GOCCTerm environments built.
Attaching package: 'topGO'
The following object is masked from 'package:IRanges':
members
Loading required package: motifRG
Loading required package: Biostrings
Loading required package: XVector
Attaching package: 'Biostrings'
The following object is masked from 'package:graph':
complement
The following object is masked from 'package:base':
strsplit
Loading required package: seqLogo
Loading required package: grid
Attaching package: 'grid'
The following object is masked from 'package:topGO':
depth
Loading required package: BSgenome
Loading required package: GenomeInfoDb
Loading required package: GenomicRanges
Loading required package: rtracklayer
Attaching package: 'rtracklayer'
The following object is masked from 'package:plotly':
export
Loading required package: BSgenome.Hsapiens.UCSC.hg19
>
> test_check("RCAS")
GAAGGA 8.160181e-06
Skip pattern ATTTTT
Refine GAAGGA 11.73822 : 9.750022 11.15651 11.73645 11.82412 10.75866 TRUE 463 150 449 144
New motif: GAAGGA
══ testthat results ═══════════════════════════════════════════════════════════
OK: 152 SKIPPED: 0 FAILED: 0
>
> proc.time()
user system elapsed
146.808 29.579 267.706
RCAS.Rcheck/RCAS-Ex.timings
| name | user | system | elapsed | |
| calculateCoverageProfile | 19.413 | 1.601 | 21.018 | |
| calculateCoverageProfileFromTxdb | 8.668 | 0.924 | 9.592 | |
| calculateCoverageProfileList | 18.360 | 2.554 | 20.923 | |
| calculateCoverageProfileListFromTxdb | 16.568 | 2.320 | 18.889 | |
| createControlRegions | 0.473 | 0.018 | 0.492 | |
| createDB | 4.828 | 0.238 | 27.155 | |
| createOrthologousGeneSetList | 1.004 | 0.061 | 54.433 | |
| discoverFeatureSpecificMotifs | 0.001 | 0.000 | 0.000 | |
| extractSequences | 1.870 | 0.310 | 2.182 | |
| getFeatureBoundaryCoverage | 7.440 | 0.799 | 8.296 | |
| getFeatureBoundaryCoverageBin | 8.009 | 0.916 | 9.461 | |
| getFeatureBoundaryCoverageMulti | 24.534 | 3.221 | 28.089 | |
| getIntervalOverlapMatrix | 1.647 | 0.323 | 2.774 | |
| getMotifSummaryTable | 52.269 | 19.140 | 42.793 | |
| getTargetedGenesTable | 15.227 | 2.168 | 14.316 | |
| getTxdbFeatures | 12.256 | 1.478 | 13.532 | |
| getTxdbFeaturesFromGRanges | 12.509 | 1.401 | 14.229 | |
| importBed | 0.388 | 0.019 | 0.406 | |
| importBedFiles | 1.424 | 0.073 | 1.497 | |
| importGtf | 0.000 | 0.000 | 0.001 | |
| parseMsigdb | 0.003 | 0.000 | 0.005 | |
| plotFeatureBoundaryCoverage | 8.640 | 1.400 | 9.555 | |
| printMsigdbDataset | 0.336 | 0.252 | 0.115 | |
| queryGff | 0.725 | 0.156 | 0.911 | |
| retrieveOrthologs | 0.879 | 0.118 | 35.668 | |
| runGSEA | 1.519 | 0.183 | 1.703 | |
| runMotifRG | 54.607 | 18.923 | 42.635 | |
| runReport | 0.000 | 0.001 | 0.001 | |
| runReportMetaAnalysis | 1.851 | 0.410 | 2.331 | |
| runTopGO | 0.000 | 0.001 | 0.001 | |
| summarizeQueryRegions | 13.910 | 1.411 | 15.462 | |
| summarizeQueryRegionsMulti | 14.589 | 1.825 | 38.558 | |