| Back to Multiple platform build/check report for BioC 3.9 |
|
This page was generated on 2019-04-09 12:23:52 -0400 (Tue, 09 Apr 2019).
| Package 1275/1703 | Hostname | OS / Arch | INSTALL | BUILD | CHECK | BUILD BIN | ||||||
| R3CPET 1.15.0 Mohamed Nadhir Djekidel
| malbec2 | Linux (Ubuntu 18.04.2 LTS) / x86_64 | OK | OK | OK | |||||||
| tokay2 | Windows Server 2012 R2 Standard / x64 | OK | OK | OK | [ OK ] | |||||||
| celaya2 | OS X 10.11.6 El Capitan / x86_64 | OK | OK | OK | OK | |||||||
| merida2 | OS X 10.11.6 El Capitan / x86_64 | OK | OK | OK | OK |
| Package: R3CPET |
| Version: 1.15.0 |
| Command: rm -rf R3CPET.buildbin-libdir && mkdir R3CPET.buildbin-libdir && C:\Users\biocbuild\bbs-3.9-bioc\R\bin\R.exe CMD INSTALL --merge-multiarch --build --library=R3CPET.buildbin-libdir R3CPET_1.15.0.tar.gz |
| StartedAt: 2019-04-09 08:45:46 -0400 (Tue, 09 Apr 2019) |
| EndedAt: 2019-04-09 08:47:35 -0400 (Tue, 09 Apr 2019) |
| EllapsedTime: 108.4 seconds |
| RetCode: 0 |
| Status: OK |
| PackageFile: R3CPET_1.15.0.zip |
| PackageFileSize: 5.727 MiB |
##############################################################################
##############################################################################
###
### Running command:
###
### rm -rf R3CPET.buildbin-libdir && mkdir R3CPET.buildbin-libdir && C:\Users\biocbuild\bbs-3.9-bioc\R\bin\R.exe CMD INSTALL --merge-multiarch --build --library=R3CPET.buildbin-libdir R3CPET_1.15.0.tar.gz
###
##############################################################################
##############################################################################
install for i386
* installing *source* package 'R3CPET' ...
** libs
C:/Rtools/mingw_32/bin/gcc -I"C:/Users/BIOCBU˜1/BBS-3˜1.9-B/R/include" -DNDEBUG -I"C:/Users/biocbuild/bbs-3.9-bioc/R/library/Rcpp/include" -I"C:/extsoft/include" -O3 -Wall -std=gnu99 -mtune=generic -c R3CPET_init.c -o R3CPET_init.o
C:/Rtools/mingw_32/bin/g++ -I"C:/Users/BIOCBU˜1/BBS-3˜1.9-B/R/include" -DNDEBUG -I"C:/Users/biocbuild/bbs-3.9-bioc/R/library/Rcpp/include" -I"C:/extsoft/include" -O2 -Wall -mtune=generic -c RcppExports.cpp -o RcppExports.o
C:/Rtools/mingw_32/bin/g++ -I"C:/Users/BIOCBU˜1/BBS-3˜1.9-B/R/include" -DNDEBUG -I"C:/Users/biocbuild/bbs-3.9-bioc/R/library/Rcpp/include" -I"C:/extsoft/include" -O2 -Wall -mtune=generic -c corpus.cpp -o corpus.o
C:/Rtools/mingw_32/bin/g++ -I"C:/Users/BIOCBU˜1/BBS-3˜1.9-B/R/include" -DNDEBUG -I"C:/Users/biocbuild/bbs-3.9-bioc/R/library/Rcpp/include" -I"C:/extsoft/include" -O2 -Wall -mtune=generic -c main.cpp -o main.o
C:/Rtools/mingw_32/bin/g++ -I"C:/Users/BIOCBU˜1/BBS-3˜1.9-B/R/include" -DNDEBUG -I"C:/Users/biocbuild/bbs-3.9-bioc/R/library/Rcpp/include" -I"C:/extsoft/include" -O2 -Wall -mtune=generic -c state.cpp -o state.o
state.cpp: In member function 'int HDP::sample_word_assignment(DocState*, int, bool, vct*)':
state.cpp:253:20: warning: 'k' may be used uninitialized in this function [-Wmaybe-uninitialized]
return int(old_k != k);
^
C:/Rtools/mingw_32/bin/g++ -I"C:/Users/BIOCBU˜1/BBS-3˜1.9-B/R/include" -DNDEBUG -I"C:/Users/biocbuild/bbs-3.9-bioc/R/library/Rcpp/include" -I"C:/extsoft/include" -O2 -Wall -mtune=generic -c stirln.cpp -o stirln.o
C:/Rtools/mingw_32/bin/g++ -I"C:/Users/BIOCBU˜1/BBS-3˜1.9-B/R/include" -DNDEBUG -I"C:/Users/biocbuild/bbs-3.9-bioc/R/library/Rcpp/include" -I"C:/extsoft/include" -O2 -Wall -mtune=generic -c utils.cpp -o utils.o
C:/Rtools/mingw_32/bin/g++ -shared -s -static-libgcc -o R3CPET.dll tmp.def R3CPET_init.o RcppExports.o corpus.o main.o state.o stirln.o utils.o -LC:/extsoft/lib/i386 -LC:/extsoft/lib -LC:/Users/BIOCBU˜1/BBS-3˜1.9-B/R/bin/i386 -lR
installing to C:/Users/biocbuild/bbs-3.9-bioc/meat/R3CPET.buildbin-libdir/00LOCK-R3CPET/00new/R3CPET/libs/i386
** R
** data
** inst
** byte-compile and prepare package for lazy loading
NOTE: arguments in definition for validity method for class 'ChromMaintainers' changed from (x) to (object)
NOTE: arguments in definition for validity method for class 'HLDAResult' changed from (x) to (object)
NOTE: arguments in definition for validity method for class 'NetworkCollection' changed from (x) to (object)
** help
*** installing help indices
converting help for package 'R3CPET'
finding HTML links ... done
Biogrid html
finding level-2 HTML links ... done
ChiapetExperimentData-class html
ChromMaintainers-class html
CreateCenteredBED-methods html
EnsemblToHGNC html
EntrezToHGNC html
GOEnrich-methods html
GenerateNetworks-methods html
HLDAResult-class html
HPRD html
InferNetworks-methods html
NetworkCollection-class html
PrepareData-methods html
R3CPET-package html
RPKMS html
annotateExpression-methods html
buildNetworks-methods html
chromosoms html
cluesOrSota-class html
clusterInteractions-methods html
createIndexes-methods html
createServer-methods html
geneLocations html
getRegionsInNetwork-methods html
getRegionsIncluster-methods html
loadPETs-methods html
loadPPI-methods html
loadTFBS-methods html
outputGenesPerClusterToDir-methods html
outputGenesPerNetworkToDir-methods html
plotRes-methods html
plotTrack html
updateResults-methods html
visualizeCircos-methods html
visualizeInteractions-methods html
** building package indices
** installing vignettes
** testing if installed package can be loaded from temporary location
** testing if installed package can be loaded from final location
** testing if installed package keeps a record of temporary installation path
install for x64
* installing *source* package 'R3CPET' ...
** libs
C:/Rtools/mingw_64/bin/gcc -I"C:/Users/BIOCBU˜1/BBS-3˜1.9-B/R/include" -DNDEBUG -I"C:/Users/biocbuild/bbs-3.9-bioc/R/library/Rcpp/include" -I"C:/extsoft/include" -O2 -Wall -std=gnu99 -mtune=generic -c R3CPET_init.c -o R3CPET_init.o
C:/Rtools/mingw_64/bin/g++ -I"C:/Users/BIOCBU˜1/BBS-3˜1.9-B/R/include" -DNDEBUG -I"C:/Users/biocbuild/bbs-3.9-bioc/R/library/Rcpp/include" -I"C:/extsoft/include" -O2 -Wall -mtune=generic -c RcppExports.cpp -o RcppExports.o
C:/Rtools/mingw_64/bin/g++ -I"C:/Users/BIOCBU˜1/BBS-3˜1.9-B/R/include" -DNDEBUG -I"C:/Users/biocbuild/bbs-3.9-bioc/R/library/Rcpp/include" -I"C:/extsoft/include" -O2 -Wall -mtune=generic -c corpus.cpp -o corpus.o
C:/Rtools/mingw_64/bin/g++ -I"C:/Users/BIOCBU˜1/BBS-3˜1.9-B/R/include" -DNDEBUG -I"C:/Users/biocbuild/bbs-3.9-bioc/R/library/Rcpp/include" -I"C:/extsoft/include" -O2 -Wall -mtune=generic -c main.cpp -o main.o
C:/Rtools/mingw_64/bin/g++ -I"C:/Users/BIOCBU˜1/BBS-3˜1.9-B/R/include" -DNDEBUG -I"C:/Users/biocbuild/bbs-3.9-bioc/R/library/Rcpp/include" -I"C:/extsoft/include" -O2 -Wall -mtune=generic -c state.cpp -o state.o
state.cpp: In member function 'int HDP::sample_word_assignment(DocState*, int, bool, vct*)':
state.cpp:253:20: warning: 'k' may be used uninitialized in this function [-Wmaybe-uninitialized]
return int(old_k != k);
^
C:/Rtools/mingw_64/bin/g++ -I"C:/Users/BIOCBU˜1/BBS-3˜1.9-B/R/include" -DNDEBUG -I"C:/Users/biocbuild/bbs-3.9-bioc/R/library/Rcpp/include" -I"C:/extsoft/include" -O2 -Wall -mtune=generic -c stirln.cpp -o stirln.o
C:/Rtools/mingw_64/bin/g++ -I"C:/Users/BIOCBU˜1/BBS-3˜1.9-B/R/include" -DNDEBUG -I"C:/Users/biocbuild/bbs-3.9-bioc/R/library/Rcpp/include" -I"C:/extsoft/include" -O2 -Wall -mtune=generic -c utils.cpp -o utils.o
C:/Rtools/mingw_64/bin/g++ -shared -s -static-libgcc -o R3CPET.dll tmp.def R3CPET_init.o RcppExports.o corpus.o main.o state.o stirln.o utils.o -LC:/extsoft/lib/x64 -LC:/extsoft/lib -LC:/Users/BIOCBU˜1/BBS-3˜1.9-B/R/bin/x64 -lR
installing to C:/Users/biocbuild/bbs-3.9-bioc/meat/R3CPET.buildbin-libdir/R3CPET/libs/x64
** testing if installed package can be loaded
* MD5 sums
packaged installation of 'R3CPET' as R3CPET_1.15.0.zip
* DONE (R3CPET)