| Back to Multiple platform build/check report for BioC 3.9 |
|
This page was generated on 2019-04-09 13:06:38 -0400 (Tue, 09 Apr 2019).
| Package 1270/1703 | Hostname | OS / Arch | INSTALL | BUILD | CHECK | BUILD BIN | ||||||
| QuasR 1.23.18 Michael Stadler
| malbec2 | Linux (Ubuntu 18.04.2 LTS) / x86_64 | OK | OK | OK | |||||||
| tokay2 | Windows Server 2012 R2 Standard / x64 | OK | OK | OK | OK | |||||||
| celaya2 | OS X 10.11.6 El Capitan / x86_64 | OK | [ OK ] | OK | OK | |||||||
| merida2 | OS X 10.11.6 El Capitan / x86_64 | OK | ERROR | skipped | skipped |
| Package: QuasR |
| Version: 1.23.18 |
| Command: /Library/Frameworks/R.framework/Versions/Current/Resources/bin/R CMD build --keep-empty-dirs --no-resave-data QuasR |
| StartedAt: 2019-04-08 20:28:33 -0400 (Mon, 08 Apr 2019) |
| EndedAt: 2019-04-08 20:35:33 -0400 (Mon, 08 Apr 2019) |
| EllapsedTime: 420.7 seconds |
| RetCode: 0 |
| Status: OK |
| PackageFile: QuasR_1.23.18.tar.gz |
| PackageFileSize: 2.581 MiB |
############################################################################## ############################################################################## ### ### Running command: ### ### /Library/Frameworks/R.framework/Versions/Current/Resources/bin/R CMD build --keep-empty-dirs --no-resave-data QuasR ### ############################################################################## ############################################################################## * checking for file ‘QuasR/DESCRIPTION’ ... OK * preparing ‘QuasR’: * checking DESCRIPTION meta-information ... OK * cleaning src * installing the package to build vignettes * creating vignettes ... OK * cleaning src * checking for LF line-endings in source and make files and shell scripts * checking for empty or unneeded directories WARNING: directory ‘QuasR/inst/AlignerIndexPkg-template/R’ is empty * building ‘QuasR_1.23.18.tar.gz’