| Back to Multiple platform build/check report for BioC 3.9 |
|
This page was generated on 2019-04-09 12:42:40 -0400 (Tue, 09 Apr 2019).
| Package 1242/1703 | Hostname | OS / Arch | INSTALL | BUILD | CHECK | BUILD BIN | ||||||
| ProteoMM 1.1.1 Yuliya V Karpievitch
| malbec2 | Linux (Ubuntu 18.04.2 LTS) / x86_64 | OK | OK | OK | |||||||
| tokay2 | Windows Server 2012 R2 Standard / x64 | OK | OK | OK | [ OK ] | |||||||
| celaya2 | OS X 10.11.6 El Capitan / x86_64 | OK | OK | OK | OK | |||||||
| merida2 | OS X 10.11.6 El Capitan / x86_64 | OK | OK | OK | OK |
| Package: ProteoMM |
| Version: 1.1.1 |
| Command: rm -rf ProteoMM.buildbin-libdir && mkdir ProteoMM.buildbin-libdir && C:\Users\biocbuild\bbs-3.9-bioc\R\bin\R.exe CMD INSTALL --merge-multiarch --build --library=ProteoMM.buildbin-libdir ProteoMM_1.1.1.tar.gz |
| StartedAt: 2019-04-09 08:43:50 -0400 (Tue, 09 Apr 2019) |
| EndedAt: 2019-04-09 08:44:21 -0400 (Tue, 09 Apr 2019) |
| EllapsedTime: 31.1 seconds |
| RetCode: 0 |
| Status: OK |
| PackageFile: ProteoMM_1.1.1.zip |
| PackageFileSize: 367.5 KiB |
##############################################################################
##############################################################################
###
### Running command:
###
### rm -rf ProteoMM.buildbin-libdir && mkdir ProteoMM.buildbin-libdir && C:\Users\biocbuild\bbs-3.9-bioc\R\bin\R.exe CMD INSTALL --merge-multiarch --build --library=ProteoMM.buildbin-libdir ProteoMM_1.1.1.tar.gz
###
##############################################################################
##############################################################################
install for i386
* installing *source* package 'ProteoMM' ...
** R
** data
*** moving datasets to lazyload DB
** inst
** byte-compile and prepare package for lazy loading
** help
*** installing help indices
converting help for package 'ProteoMM'
finding HTML links ... done
MBimpute html
convert_log2 html
eig_norm1 html
eig_norm2 html
eigen_pi html
g.test html
get_presAbs_prots html
hs_peptides html
makeLMFormula html
make_intencities html
make_meta html
mm_peptides html
peptideLevel_DE html
peptideLevel_PresAbsDE html
plot_1prot html
plot_3_pep_trends_NOfile html
plot_volcano html
plot_volcano_wLab html
prot_level_multiMat_PresAbs html
prot_level_multi_part html
subset_proteins html
sva.id html
** building package indices
** installing vignettes
** testing if installed package can be loaded from temporary location
** testing if installed package can be loaded from final location
** testing if installed package keeps a record of temporary installation path
install for x64
* installing *source* package 'ProteoMM' ...
** testing if installed package can be loaded
* MD5 sums
packaged installation of 'ProteoMM' as ProteoMM_1.1.1.zip
* DONE (ProteoMM)