| Back to Multiple platform build/check report for BioC 3.9 | 
 | 
This page was generated on 2019-04-09 12:38:26 -0400 (Tue, 09 Apr 2019).
| Package 1210/1703 | Hostname | OS / Arch | INSTALL | BUILD | CHECK | BUILD BIN | ||||||
| PowerExplorer 1.3.1 Xu Qiao 
 | malbec2 | Linux (Ubuntu 18.04.2 LTS) / x86_64 | OK | OK | OK |  | ||||||
| tokay2 | Windows Server 2012 R2 Standard / x64 | [ OK ] | OK | OK | OK |  | ||||||
| celaya2 | OS X 10.11.6 El Capitan / x86_64 | OK | OK | OK | OK |  | ||||||
| merida2 | OS X 10.11.6 El Capitan / x86_64 | OK | OK | OK | OK | 
| Package: PowerExplorer | 
| Version: 1.3.1 | 
| Command: C:\cygwin\bin\curl.exe -O https://malbec2.bioconductor.org/BBS/3.9/bioc/src/contrib/PowerExplorer_1.3.1.tar.gz && rm -rf PowerExplorer.buildbin-libdir && mkdir PowerExplorer.buildbin-libdir && C:\Users\biocbuild\bbs-3.9-bioc\R\bin\R.exe CMD INSTALL --merge-multiarch --build --library=PowerExplorer.buildbin-libdir PowerExplorer_1.3.1.tar.gz && C:\Users\biocbuild\bbs-3.9-bioc\R\bin\R.exe CMD INSTALL PowerExplorer_1.3.1.zip && rm PowerExplorer_1.3.1.tar.gz PowerExplorer_1.3.1.zip | 
| StartedAt: 2019-04-08 19:56:02 -0400 (Mon, 08 Apr 2019) | 
| EndedAt: 2019-04-08 19:57:07 -0400 (Mon, 08 Apr 2019) | 
| EllapsedTime: 64.3 seconds | 
| RetCode: 0 | 
| Status: OK | 
##############################################################################
##############################################################################
###
### Running command:
###
###   C:\cygwin\bin\curl.exe -O https://malbec2.bioconductor.org/BBS/3.9/bioc/src/contrib/PowerExplorer_1.3.1.tar.gz && rm -rf PowerExplorer.buildbin-libdir && mkdir PowerExplorer.buildbin-libdir && C:\Users\biocbuild\bbs-3.9-bioc\R\bin\R.exe CMD INSTALL --merge-multiarch --build --library=PowerExplorer.buildbin-libdir PowerExplorer_1.3.1.tar.gz && C:\Users\biocbuild\bbs-3.9-bioc\R\bin\R.exe CMD INSTALL PowerExplorer_1.3.1.zip && rm PowerExplorer_1.3.1.tar.gz PowerExplorer_1.3.1.zip
###
##############################################################################
##############################################################################
  % Total    % Received % Xferd  Average Speed   Time    Time     Time  Current
                                 Dload  Upload   Total   Spent    Left  Speed
  0     0    0     0    0     0      0      0 --:--:-- --:--:-- --:--:--     0
100  691k  100  691k    0     0  9307k      0 --:--:-- --:--:-- --:--:-- 10.0M
install for i386
* installing *source* package 'PowerExplorer' ...
** R
** data
*** moving datasets to lazyload DB
** inst
** byte-compile and prepare package for lazy loading
** help
*** installing help indices
  converting help for package 'PowerExplorer'
    finding HTML links ... done
    PowerExplorerStorage-class              html  
    estimatePower                           html  
    finding level-2 HTML links ... done
    exampleObject                           html  
    exampleProteomicsData                   html  
    exampleRNASeqData                       html  
    listEstPwr                              html  
    listPredPwr                             html  
    plotEstPwr                              html  
    plotPredPwr                             html  
    predictPower                            html  
    show                                    html  
** building package indices
** installing vignettes
** testing if installed package can be loaded from temporary location
** testing if installed package can be loaded from final location
** testing if installed package keeps a record of temporary installation path
install for x64
* installing *source* package 'PowerExplorer' ...
** testing if installed package can be loaded
* MD5 sums
packaged installation of 'PowerExplorer' as PowerExplorer_1.3.1.zip
* DONE (PowerExplorer)
* installing to library 'C:/Users/biocbuild/bbs-3.9-bioc/R/library'
package 'PowerExplorer' successfully unpacked and MD5 sums checked