| Back to Multiple platform build/check report for BioC 3.9 | 
 | 
This page was generated on 2019-04-09 12:35:07 -0400 (Tue, 09 Apr 2019).
| Package 1238/1703 | Hostname | OS / Arch | INSTALL | BUILD | CHECK | BUILD BIN | ||||||
| PROPS 1.5.0 Lichy Han 
 | malbec2 | Linux (Ubuntu 18.04.2 LTS) / x86_64 | OK | OK | OK |  | ||||||
| tokay2 | Windows Server 2012 R2 Standard / x64 | OK | OK | OK | [ OK ] |  | ||||||
| celaya2 | OS X 10.11.6 El Capitan / x86_64 | OK | OK | OK | OK |  | ||||||
| merida2 | OS X 10.11.6 El Capitan / x86_64 | OK | OK | OK | OK | 
| Package: PROPS | 
| Version: 1.5.0 | 
| Command: rm -rf PROPS.buildbin-libdir && mkdir PROPS.buildbin-libdir && C:\Users\biocbuild\bbs-3.9-bioc\R\bin\R.exe CMD INSTALL --merge-multiarch --build --library=PROPS.buildbin-libdir PROPS_1.5.0.tar.gz | 
| StartedAt: 2019-04-09 08:43:34 -0400 (Tue, 09 Apr 2019) | 
| EndedAt: 2019-04-09 08:44:17 -0400 (Tue, 09 Apr 2019) | 
| EllapsedTime: 43.0 seconds | 
| RetCode: 0 | 
| Status: OK | 
| PackageFile: PROPS_1.5.0.zip | 
| PackageFileSize: 3.612 MiB | 
##############################################################################
##############################################################################
###
### Running command:
###
###   rm -rf PROPS.buildbin-libdir && mkdir PROPS.buildbin-libdir && C:\Users\biocbuild\bbs-3.9-bioc\R\bin\R.exe CMD INSTALL --merge-multiarch --build --library=PROPS.buildbin-libdir PROPS_1.5.0.tar.gz
###
##############################################################################
##############################################################################
install for i386
* installing *source* package 'PROPS' ...
** R
** data
** inst
** byte-compile and prepare package for lazy loading
** help
*** installing help indices
  converting help for package 'PROPS'
    finding HTML links ... done
    PROPS-package                           html  
    example_data                            html  
    example_edges                           html  
    example_healthy                         html  
    kegg_pathway_edges                      html  
    props                                   html  
** building package indices
** installing vignettes
** testing if installed package can be loaded from temporary location
** testing if installed package can be loaded from final location
** testing if installed package keeps a record of temporary installation path
install for x64
* installing *source* package 'PROPS' ...
** testing if installed package can be loaded
* MD5 sums
packaged installation of 'PROPS' as PROPS_1.5.0.zip
* DONE (PROPS)