| Back to Multiple platform build/check report for BioC 3.9 | 
 | 
This page was generated on 2019-04-09 13:26:55 -0400 (Tue, 09 Apr 2019).
| Package 1191/1703 | Hostname | OS / Arch | INSTALL | BUILD | CHECK | BUILD BIN | ||||||
| PING 2.27.0 Renan Sauteraud 
 | malbec2 | Linux (Ubuntu 18.04.2 LTS) / x86_64 | OK | OK | WARNINGS |  | ||||||
| tokay2 | Windows Server 2012 R2 Standard / x64 | OK | OK | WARNINGS | OK |  | ||||||
| celaya2 | OS X 10.11.6 El Capitan / x86_64 | OK | OK | WARNINGS | OK |  | ||||||
| merida2 | OS X 10.11.6 El Capitan / x86_64 | OK | [ OK ] | WARNINGS | OK | 
| Package: PING | 
| Version: 2.27.0 | 
| Command: /Library/Frameworks/R.framework/Versions/Current/Resources/bin/R CMD build --keep-empty-dirs --no-resave-data PING | 
| StartedAt: 2019-04-08 20:19:29 -0400 (Mon, 08 Apr 2019) | 
| EndedAt: 2019-04-08 20:23:32 -0400 (Mon, 08 Apr 2019) | 
| EllapsedTime: 243.5 seconds | 
| RetCode: 0 | 
| Status: OK | 
| PackageFile: PING_2.27.0.tar.gz | 
| PackageFileSize: 4.973 MiB | 
##############################################################################
##############################################################################
###
### Running command:
###
###   /Library/Frameworks/R.framework/Versions/Current/Resources/bin/R CMD build --keep-empty-dirs --no-resave-data PING
###
##############################################################################
##############################################################################
* checking for file ‘PING/DESCRIPTION’ ... OK
* preparing ‘PING’:
* checking DESCRIPTION meta-information ... OK
* cleaning src
* running ‘cleanup’
* installing the package to build vignettes
* creating vignettes ... OK
Warning: ‘inst/doc’ file
    ‘PING-PE.R’
  ignored as vignettes have been rebuilt.
  Run R CMD build with --no-build-vignettes to prevent rebuilding.
* cleaning src
* running ‘cleanup’
* checking for LF line-endings in source and make files and shell scripts
* checking for empty or unneeded directories
* building ‘PING_2.27.0.tar.gz’