| Back to Multiple platform build/check report for BioC 3.9 | 
 | 
This page was generated on 2019-04-09 11:55:38 -0400 (Tue, 09 Apr 2019).
| Package 1176/1703 | Hostname | OS / Arch | INSTALL | BUILD | CHECK | BUILD BIN | ||||||
| PGSEA 1.57.0 Karl Dykema 
 | malbec2 | Linux (Ubuntu 18.04.2 LTS) / x86_64 | OK | OK | OK |  | ||||||
| tokay2 | Windows Server 2012 R2 Standard / x64 | OK | [ OK ] | OK | OK |  | ||||||
| celaya2 | OS X 10.11.6 El Capitan / x86_64 | OK | OK | OK | OK |  | ||||||
| merida2 | OS X 10.11.6 El Capitan / x86_64 | OK | OK | OK | OK | 
| Package: PGSEA | 
| Version: 1.57.0 | 
| Command: chmod a+r PGSEA -R && C:\Users\biocbuild\bbs-3.9-bioc\R\bin\R.exe CMD build --keep-empty-dirs --no-resave-data PGSEA | 
| StartedAt: 2019-04-08 21:07:41 -0400 (Mon, 08 Apr 2019) | 
| EndedAt: 2019-04-08 21:15:23 -0400 (Mon, 08 Apr 2019) | 
| EllapsedTime: 461.9 seconds | 
| RetCode: 0 | 
| Status: OK | 
| PackageFile: PGSEA_1.57.0.tar.gz | 
| PackageFileSize: 1.157 MiB | 
##############################################################################
##############################################################################
###
### Running command:
###
###   chmod a+r PGSEA -R && C:\Users\biocbuild\bbs-3.9-bioc\R\bin\R.exe CMD build --keep-empty-dirs --no-resave-data PGSEA
###
##############################################################################
##############################################################################
* checking for file 'PGSEA/DESCRIPTION' ... OK
* preparing 'PGSEA':
* checking DESCRIPTION meta-information ... OK
* installing the package to build vignettes
* creating vignettes ... OK
Warning: 'inst/doc' file
    'PGSEA2.R'
  ignored as vignettes have been rebuilt.
  Run R CMD build with --no-build-vignettes to prevent rebuilding.
* checking for LF line-endings in source and make files and shell scripts
* checking for empty or unneeded directories
* looking to see if a 'data/datalist' file should be added
* building 'PGSEA_1.57.0.tar.gz'