| Back to Multiple platform build/check report for BioC 3.9 |
|
This page was generated on 2019-04-09 12:30:04 -0400 (Tue, 09 Apr 2019).
| Package 1128/1703 | Hostname | OS / Arch | INSTALL | BUILD | CHECK | BUILD BIN | ||||||
| Organism.dplyr 1.11.2 Martin Morgan
| malbec2 | Linux (Ubuntu 18.04.2 LTS) / x86_64 | OK | OK | OK | |||||||
| tokay2 | Windows Server 2012 R2 Standard / x64 | OK | OK | WARNINGS | [ OK ] | |||||||
| celaya2 | OS X 10.11.6 El Capitan / x86_64 | OK | OK | OK | OK | |||||||
| merida2 | OS X 10.11.6 El Capitan / x86_64 | OK | OK | OK | OK |
| Package: Organism.dplyr |
| Version: 1.11.2 |
| Command: rm -rf Organism.dplyr.buildbin-libdir && mkdir Organism.dplyr.buildbin-libdir && C:\Users\biocbuild\bbs-3.9-bioc\R\bin\R.exe CMD INSTALL --merge-multiarch --build --library=Organism.dplyr.buildbin-libdir Organism.dplyr_1.11.2.tar.gz |
| StartedAt: 2019-04-09 08:37:00 -0400 (Tue, 09 Apr 2019) |
| EndedAt: 2019-04-09 08:38:09 -0400 (Tue, 09 Apr 2019) |
| EllapsedTime: 68.6 seconds |
| RetCode: 0 |
| Status: OK |
| PackageFile: Organism.dplyr_1.11.2.zip |
| PackageFileSize: 771 KiB |
##############################################################################
##############################################################################
###
### Running command:
###
### rm -rf Organism.dplyr.buildbin-libdir && mkdir Organism.dplyr.buildbin-libdir && C:\Users\biocbuild\bbs-3.9-bioc\R\bin\R.exe CMD INSTALL --merge-multiarch --build --library=Organism.dplyr.buildbin-libdir Organism.dplyr_1.11.2.tar.gz
###
##############################################################################
##############################################################################
install for i386
* installing *source* package 'Organism.dplyr' ...
** R
** inst
** byte-compile and prepare package for lazy loading
** help
*** installing help indices
converting help for package 'Organism.dplyr'
finding HTML links ... done
Genomic-Extractors html
finding level-2 HTML links ... done
filter html
Rd warning: C:/Users/biocbuild/bbs-3.9-bioc/tmpdir/Rtmpm6E3aL/R.INSTALLbf82ee43cf7/Organism.dplyr/man/filter.Rd:152: file link 'transcripts_tbl' in package 'Organism.dplyr' does not exist and so has been treated as a topic
Rd warning: C:/Users/biocbuild/bbs-3.9-bioc/tmpdir/Rtmpm6E3aL/R.INSTALLbf82ee43cf7/Organism.dplyr/man/filter.Rd:155: file link 'select,src_organism-method' in package 'Organism.dplyr' does not exist and so has been treated as a topic
select html
Rd warning: C:/Users/biocbuild/bbs-3.9-bioc/tmpdir/Rtmpm6E3aL/R.INSTALLbf82ee43cf7/Organism.dplyr/man/select.Rd:137: file link 'transcripts_tbl' in package 'Organism.dplyr' does not exist and so has been treated as a topic
src html
Rd warning: C:/Users/biocbuild/bbs-3.9-bioc/tmpdir/Rtmpm6E3aL/R.INSTALLbf82ee43cf7/Organism.dplyr/man/src.Rd:126: file link 'transcripts_tbl' in package 'Organism.dplyr' does not exist and so has been treated as a topic
Rd warning: C:/Users/biocbuild/bbs-3.9-bioc/tmpdir/Rtmpm6E3aL/R.INSTALLbf82ee43cf7/Organism.dplyr/man/src.Rd:129: file link 'select,src_organism-method' in package 'Organism.dplyr' does not exist and so has been treated as a topic
utils html
** building package indices
** installing vignettes
** testing if installed package can be loaded from temporary location
** testing if installed package can be loaded from final location
** testing if installed package keeps a record of temporary installation path
install for x64
* installing *source* package 'Organism.dplyr' ...
** testing if installed package can be loaded
* MD5 sums
packaged installation of 'Organism.dplyr' as Organism.dplyr_1.11.2.zip
* DONE (Organism.dplyr)