| Back to Multiple platform build/check report for BioC 3.9 |
|
This page was generated on 2019-04-09 12:06:31 -0400 (Tue, 09 Apr 2019).
| Package 1107/1703 | Hostname | OS / Arch | INSTALL | BUILD | CHECK | BUILD BIN | ||||||
| OmicCircos 1.21.0 Ying Hu
| malbec2 | Linux (Ubuntu 18.04.2 LTS) / x86_64 | OK | OK | OK | |||||||
| tokay2 | Windows Server 2012 R2 Standard / x64 | OK | OK | OK | [ OK ] | |||||||
| celaya2 | OS X 10.11.6 El Capitan / x86_64 | OK | OK | OK | OK | |||||||
| merida2 | OS X 10.11.6 El Capitan / x86_64 | OK | OK | OK | OK |
| Package: OmicCircos |
| Version: 1.21.0 |
| Command: rm -rf OmicCircos.buildbin-libdir && mkdir OmicCircos.buildbin-libdir && C:\Users\biocbuild\bbs-3.9-bioc\R\bin\R.exe CMD INSTALL --merge-multiarch --build --library=OmicCircos.buildbin-libdir OmicCircos_1.21.0.tar.gz |
| StartedAt: 2019-04-09 08:35:46 -0400 (Tue, 09 Apr 2019) |
| EndedAt: 2019-04-09 08:36:22 -0400 (Tue, 09 Apr 2019) |
| EllapsedTime: 36.7 seconds |
| RetCode: 0 |
| Status: OK |
| PackageFile: OmicCircos_1.21.0.zip |
| PackageFileSize: 3.779 MiB |
##############################################################################
##############################################################################
###
### Running command:
###
### rm -rf OmicCircos.buildbin-libdir && mkdir OmicCircos.buildbin-libdir && C:\Users\biocbuild\bbs-3.9-bioc\R\bin\R.exe CMD INSTALL --merge-multiarch --build --library=OmicCircos.buildbin-libdir OmicCircos_1.21.0.tar.gz
###
##############################################################################
##############################################################################
install for i386
* installing *source* package 'OmicCircos' ...
** R
** data
** demo
** inst
** byte-compile and prepare package for lazy loading
** help
*** installing help indices
converting help for package 'OmicCircos'
finding HTML links ... done
OmicCircos html
TCGA.BC.cnv.2k.60 html
TCGA.BC.fus html
TCGA.BC.gene.exp.2k.60 html
TCGA.BC.sample60 html
TCGA.BC_Her2_cnv_exp html
TCGA.PAM50_genefu_hg18 html
UCSC.chr.colors html
UCSC.hg18 html
UCSC.hg18.chr html
UCSC.hg19 html
UCSC.hg19.chr html
UCSC.mm10 html
UCSC.mm10.chr html
UCSC.mm9 html
UCSC.mm9.chr html
circos html
segAnglePo-methods html
segAnglePo html
sim.circos html
** building package indices
** installing vignettes
** testing if installed package can be loaded from temporary location
** testing if installed package can be loaded from final location
** testing if installed package keeps a record of temporary installation path
install for x64
* installing *source* package 'OmicCircos' ...
** testing if installed package can be loaded
* MD5 sums
packaged installation of 'OmicCircos' as OmicCircos_1.21.0.zip
* DONE (OmicCircos)