| Back to Multiple platform build/check report for BioC 3.9 | 
 | 
This page was generated on 2019-04-09 12:40:57 -0400 (Tue, 09 Apr 2019).
| Package 1134/1703 | Hostname | OS / Arch | INSTALL | BUILD | CHECK | BUILD BIN | ||||||
| OUTRIDER 1.1.4 Christian Mertes 
 | malbec2 | Linux (Ubuntu 18.04.2 LTS) / x86_64 | OK | OK | OK |  | ||||||
| tokay2 | Windows Server 2012 R2 Standard / x64 | OK | OK | OK | [ OK ] |  | ||||||
| celaya2 | OS X 10.11.6 El Capitan / x86_64 | OK | OK | OK | OK |  | ||||||
| merida2 | OS X 10.11.6 El Capitan / x86_64 | OK | OK | OK | OK | 
| Package: OUTRIDER | 
| Version: 1.1.4 | 
| Command: rm -rf OUTRIDER.buildbin-libdir && mkdir OUTRIDER.buildbin-libdir && C:\Users\biocbuild\bbs-3.9-bioc\R\bin\R.exe CMD INSTALL --merge-multiarch --build --library=OUTRIDER.buildbin-libdir OUTRIDER_1.1.4.tar.gz | 
| StartedAt: 2019-04-09 08:37:23 -0400 (Tue, 09 Apr 2019) | 
| EndedAt: 2019-04-09 08:39:13 -0400 (Tue, 09 Apr 2019) | 
| EllapsedTime: 109.8 seconds | 
| RetCode: 0 | 
| Status: OK | 
| PackageFile: OUTRIDER_1.1.4.zip | 
| PackageFileSize: 2.03 MiB | 
##############################################################################
##############################################################################
###
### Running command:
###
###   rm -rf OUTRIDER.buildbin-libdir && mkdir OUTRIDER.buildbin-libdir && C:\Users\biocbuild\bbs-3.9-bioc\R\bin\R.exe CMD INSTALL --merge-multiarch --build --library=OUTRIDER.buildbin-libdir OUTRIDER_1.1.4.tar.gz
###
##############################################################################
##############################################################################
install for i386
* installing *source* package 'OUTRIDER' ...
** libs
C:/Rtools/mingw_32/bin/g++  -std=gnu++11 -I"C:/Users/BIOCBU˜1/BBS-3˜1.9-B/R/include" -DNDEBUG  -I"C:/Users/biocbuild/bbs-3.9-bioc/R/library/Rcpp/include" -I"C:/Users/biocbuild/bbs-3.9-bioc/R/library/RcppArmadillo/include"   -I"C:/extsoft/include"  -fopenmp    -O2 -Wall  -mtune=generic -c RcppExports.cpp -o RcppExports.o
C:/Rtools/mingw_32/bin/g++  -std=gnu++11 -I"C:/Users/BIOCBU˜1/BBS-3˜1.9-B/R/include" -DNDEBUG  -I"C:/Users/biocbuild/bbs-3.9-bioc/R/library/Rcpp/include" -I"C:/Users/biocbuild/bbs-3.9-bioc/R/library/RcppArmadillo/include"   -I"C:/extsoft/include"  -fopenmp    -O2 -Wall  -mtune=generic -c loss_n_gradient_functions.cpp -o loss_n_gradient_functions.o
loss_n_gradient_functions.cpp: In function 'double truncLogLiklihoodD(arma::vec, arma::mat, arma::vec, arma::vec, arma::vec, double, arma::vec)':
loss_n_gradient_functions.cpp:41:19: warning: unused variable 'c' [-Wunused-variable]
     double b, ll, c;
                   ^
loss_n_gradient_functions.cpp: In function 'arma::vec gradientD(arma::vec, arma::mat, arma::vec, arma::vec, arma::vec, double, arma::vec)':
loss_n_gradient_functions.cpp:68:15: warning: unused variable 'c' [-Wunused-variable]
     double b, c;
               ^
C:/Rtools/mingw_32/bin/g++ -shared -s -static-libgcc -o OUTRIDER.dll tmp.def RcppExports.o loss_n_gradient_functions.o -fopenmp -LC:/Users/BIOCBU˜1/BBS-3˜1.9-B/R/bin/i386 -lRlapack -LC:/Users/BIOCBU˜1/BBS-3˜1.9-B/R/bin/i386 -lRblas -lgfortran -lm -lquadmath -LC:/extsoft/lib/i386 -LC:/extsoft/lib -LC:/Users/BIOCBU˜1/BBS-3˜1.9-B/R/bin/i386 -lR
installing to C:/Users/biocbuild/bbs-3.9-bioc/meat/OUTRIDER.buildbin-libdir/00LOCK-OUTRIDER/00new/OUTRIDER/libs/i386
** R
** inst
** byte-compile and prepare package for lazy loading
** help
*** installing help indices
  converting help for package 'OUTRIDER'
    finding HTML links ... done
    OUTRIDER                                html  
    OutriderDataSet-class                   html  
    aberrant                                html  
    computeGeneLength                       html  
    computeLatentSpace                      html  
    computePvalues                          html  
    computeZscores                          html  
    controlForConfounders                   html  
    counts                                  html  
    estimateBestQ                           html  
    filterExpression                        html  
    findEncodingDim                         html  
    fit                                     html  
    fpkm                                    html  
    getter_setter_functions                 html  
    makeExampleOutriderDataSet              html  
    normalizationFactors                    html  
    plotFunctions                           html  
    results                                 html  
    sampleExclusionMask                     html  
    sizeFactors                             html  
** building package indices
** installing vignettes
** testing if installed package can be loaded from temporary location
** testing if installed package can be loaded from final location
** testing if installed package keeps a record of temporary installation path
install for x64
* installing *source* package 'OUTRIDER' ...
** libs
C:/Rtools/mingw_64/bin/g++  -std=gnu++11 -I"C:/Users/BIOCBU˜1/BBS-3˜1.9-B/R/include" -DNDEBUG  -I"C:/Users/biocbuild/bbs-3.9-bioc/R/library/Rcpp/include" -I"C:/Users/biocbuild/bbs-3.9-bioc/R/library/RcppArmadillo/include"   -I"C:/extsoft/include"  -fopenmp    -O2 -Wall  -mtune=generic -c RcppExports.cpp -o RcppExports.o
C:/Rtools/mingw_64/bin/g++  -std=gnu++11 -I"C:/Users/BIOCBU˜1/BBS-3˜1.9-B/R/include" -DNDEBUG  -I"C:/Users/biocbuild/bbs-3.9-bioc/R/library/Rcpp/include" -I"C:/Users/biocbuild/bbs-3.9-bioc/R/library/RcppArmadillo/include"   -I"C:/extsoft/include"  -fopenmp    -O2 -Wall  -mtune=generic -c loss_n_gradient_functions.cpp -o loss_n_gradient_functions.o
loss_n_gradient_functions.cpp: In function 'double truncLogLiklihoodD(arma::vec, arma::mat, arma::vec, arma::vec, arma::vec, double, arma::vec)':
loss_n_gradient_functions.cpp:41:19: warning: unused variable 'c' [-Wunused-variable]
     double b, ll, c;
                   ^
loss_n_gradient_functions.cpp: In function 'arma::vec gradientD(arma::vec, arma::mat, arma::vec, arma::vec, arma::vec, double, arma::vec)':
loss_n_gradient_functions.cpp:68:15: warning: unused variable 'c' [-Wunused-variable]
     double b, c;
               ^
C:/Rtools/mingw_64/bin/g++ -shared -s -static-libgcc -o OUTRIDER.dll tmp.def RcppExports.o loss_n_gradient_functions.o -fopenmp -LC:/Users/BIOCBU˜1/BBS-3˜1.9-B/R/bin/x64 -lRlapack -LC:/Users/BIOCBU˜1/BBS-3˜1.9-B/R/bin/x64 -lRblas -lgfortran -lm -lquadmath -LC:/extsoft/lib/x64 -LC:/extsoft/lib -LC:/Users/BIOCBU˜1/BBS-3˜1.9-B/R/bin/x64 -lR
installing to C:/Users/biocbuild/bbs-3.9-bioc/meat/OUTRIDER.buildbin-libdir/OUTRIDER/libs/x64
** testing if installed package can be loaded
* MD5 sums
packaged installation of 'OUTRIDER' as OUTRIDER_1.1.4.zip
* DONE (OUTRIDER)