| Back to Multiple platform build/check report for BioC 3.9 | 
 | 
This page was generated on 2019-04-09 12:05:48 -0400 (Tue, 09 Apr 2019).
| Package 1080/1703 | Hostname | OS / Arch | INSTALL | BUILD | CHECK | BUILD BIN | ||||||
| NetSAM 1.23.0 Bing Zhang 
 | malbec2 | Linux (Ubuntu 18.04.2 LTS) / x86_64 | OK | OK | OK |  | ||||||
| tokay2 | Windows Server 2012 R2 Standard / x64 | OK | OK | OK | [ OK ] |  | ||||||
| celaya2 | OS X 10.11.6 El Capitan / x86_64 | OK | OK | OK | OK |  | ||||||
| merida2 | OS X 10.11.6 El Capitan / x86_64 | OK | OK | OK | OK | 
| Package: NetSAM | 
| Version: 1.23.0 | 
| Command: rm -rf NetSAM.buildbin-libdir && mkdir NetSAM.buildbin-libdir && C:\Users\biocbuild\bbs-3.9-bioc\R\bin\R.exe CMD INSTALL --merge-multiarch --build --library=NetSAM.buildbin-libdir NetSAM_1.23.0.tar.gz | 
| StartedAt: 2019-04-09 08:34:05 -0400 (Tue, 09 Apr 2019) | 
| EndedAt: 2019-04-09 08:34:31 -0400 (Tue, 09 Apr 2019) | 
| EllapsedTime: 26.7 seconds | 
| RetCode: 0 | 
| Status: OK | 
| PackageFile: NetSAM_1.23.0.zip | 
| PackageFileSize: 180.1 KiB | 
##############################################################################
##############################################################################
###
### Running command:
###
###   rm -rf NetSAM.buildbin-libdir && mkdir NetSAM.buildbin-libdir && C:\Users\biocbuild\bbs-3.9-bioc\R\bin\R.exe CMD INSTALL --merge-multiarch --build --library=NetSAM.buildbin-libdir NetSAM_1.23.0.tar.gz
###
##############################################################################
##############################################################################
install for i386
* installing *source* package 'NetSAM' ...
** R
** data
** inst
** byte-compile and prepare package for lazy loading
** help
*** installing help indices
  converting help for package 'NetSAM'
    finding HTML links ... done
    NetSAM-package                          html  
    NetSAM                                  html  
    inputNetwork                            html  
** building package indices
** installing vignettes
** testing if installed package can be loaded from temporary location
******************************************
*                                        *
*         Welcome to use NetSAM !        *
*                                        *
******************************************
** testing if installed package can be loaded from final location
******************************************
*                                        *
*         Welcome to use NetSAM !        *
*                                        *
******************************************
** testing if installed package keeps a record of temporary installation path
install for x64
* installing *source* package 'NetSAM' ...
** testing if installed package can be loaded
******************************************
*                                        *
*         Welcome to use NetSAM !        *
*                                        *
******************************************
* MD5 sums
packaged installation of 'NetSAM' as NetSAM_1.23.0.zip
* DONE (NetSAM)