| Back to Multiple platform build/check report for BioC 3.9 |
|
This page was generated on 2019-04-09 12:24:43 -0400 (Tue, 09 Apr 2019).
| Package 1064/1703 | Hostname | OS / Arch | INSTALL | BUILD | CHECK | BUILD BIN | ||||||
| NanoStringDiff 1.13.0 tingting zhai
| malbec2 | Linux (Ubuntu 18.04.2 LTS) / x86_64 | OK | OK | WARNINGS | |||||||
| tokay2 | Windows Server 2012 R2 Standard / x64 | OK | OK | WARNINGS | [ OK ] | |||||||
| celaya2 | OS X 10.11.6 El Capitan / x86_64 | OK | OK | WARNINGS | OK | |||||||
| merida2 | OS X 10.11.6 El Capitan / x86_64 | OK | OK | WARNINGS | OK |
| Package: NanoStringDiff |
| Version: 1.13.0 |
| Command: rm -rf NanoStringDiff.buildbin-libdir && mkdir NanoStringDiff.buildbin-libdir && C:\Users\biocbuild\bbs-3.9-bioc\R\bin\R.exe CMD INSTALL --merge-multiarch --build --library=NanoStringDiff.buildbin-libdir NanoStringDiff_1.13.0.tar.gz |
| StartedAt: 2019-04-09 08:33:09 -0400 (Tue, 09 Apr 2019) |
| EndedAt: 2019-04-09 08:33:46 -0400 (Tue, 09 Apr 2019) |
| EllapsedTime: 37.3 seconds |
| RetCode: 0 |
| Status: OK |
| PackageFile: NanoStringDiff_1.13.0.zip |
| PackageFileSize: 818.5 KiB |
##############################################################################
##############################################################################
###
### Running command:
###
### rm -rf NanoStringDiff.buildbin-libdir && mkdir NanoStringDiff.buildbin-libdir && C:\Users\biocbuild\bbs-3.9-bioc\R\bin\R.exe CMD INSTALL --merge-multiarch --build --library=NanoStringDiff.buildbin-libdir NanoStringDiff_1.13.0.tar.gz
###
##############################################################################
##############################################################################
install for i386
* installing *source* package 'NanoStringDiff' ...
** libs
C:/Rtools/mingw_32/bin/g++ -I"C:/Users/BIOCBU˜1/BBS-3˜1.9-B/R/include" -DNDEBUG -I"C:/Users/biocbuild/bbs-3.9-bioc/R/library/Rcpp/include" -I"C:/extsoft/include" -O2 -Wall -mtune=generic -c RcppExports.cpp -o RcppExports.o
C:/Rtools/mingw_32/bin/g++ -I"C:/Users/BIOCBU˜1/BBS-3˜1.9-B/R/include" -DNDEBUG -I"C:/Users/biocbuild/bbs-3.9-bioc/R/library/Rcpp/include" -I"C:/extsoft/include" -O2 -Wall -mtune=generic -c fun5.cpp -o fun5.o
C:/Rtools/mingw_32/bin/g++ -shared -s -static-libgcc -o NanoStringDiff.dll tmp.def RcppExports.o fun5.o -LC:/extsoft/lib/i386 -LC:/extsoft/lib -LC:/Users/BIOCBU˜1/BBS-3˜1.9-B/R/bin/i386 -lR
installing to C:/Users/biocbuild/bbs-3.9-bioc/meat/NanoStringDiff.buildbin-libdir/00LOCK-NanoStringDiff/00new/NanoStringDiff/libs/i386
** R
** data
** inst
** byte-compile and prepare package for lazy loading
** help
*** installing help indices
converting help for package 'NanoStringDiff'
finding HTML links ... done
NanoStringData html
NanoStringDataNormalization html
NanoStringDiff-class html
NanoStringDiff-package html
PlotsPositiveHousekeeping html
estNormalizationFactors html
glm.LRT html
housekeepingControl html
housekeepingFactor html
negativeControl html
negativeFactor html
positiveControl html
positiveFactor html
** building package indices
** installing vignettes
** testing if installed package can be loaded from temporary location
** testing if installed package can be loaded from final location
** testing if installed package keeps a record of temporary installation path
install for x64
* installing *source* package 'NanoStringDiff' ...
** libs
C:/Rtools/mingw_64/bin/g++ -I"C:/Users/BIOCBU˜1/BBS-3˜1.9-B/R/include" -DNDEBUG -I"C:/Users/biocbuild/bbs-3.9-bioc/R/library/Rcpp/include" -I"C:/extsoft/include" -O2 -Wall -mtune=generic -c RcppExports.cpp -o RcppExports.o
C:/Rtools/mingw_64/bin/g++ -I"C:/Users/BIOCBU˜1/BBS-3˜1.9-B/R/include" -DNDEBUG -I"C:/Users/biocbuild/bbs-3.9-bioc/R/library/Rcpp/include" -I"C:/extsoft/include" -O2 -Wall -mtune=generic -c fun5.cpp -o fun5.o
C:/Rtools/mingw_64/bin/g++ -shared -s -static-libgcc -o NanoStringDiff.dll tmp.def RcppExports.o fun5.o -LC:/extsoft/lib/x64 -LC:/extsoft/lib -LC:/Users/BIOCBU˜1/BBS-3˜1.9-B/R/bin/x64 -lR
installing to C:/Users/biocbuild/bbs-3.9-bioc/meat/NanoStringDiff.buildbin-libdir/NanoStringDiff/libs/x64
** testing if installed package can be loaded
* MD5 sums
packaged installation of 'NanoStringDiff' as NanoStringDiff_1.13.0.zip
* DONE (NanoStringDiff)