| Back to Multiple platform build/check report for BioC 3.9 | 
 | 
This page was generated on 2019-04-09 11:58:17 -0400 (Tue, 09 Apr 2019).
| Package 1092/1703 | Hostname | OS / Arch | INSTALL | BUILD | CHECK | BUILD BIN | ||||||
| NTW 1.33.0 Yuanhua Liu 
 | malbec2 | Linux (Ubuntu 18.04.2 LTS) / x86_64 | OK | OK | WARNINGS |  | ||||||
| tokay2 | Windows Server 2012 R2 Standard / x64 | OK | [ OK ] | WARNINGS | OK |  | ||||||
| celaya2 | OS X 10.11.6 El Capitan / x86_64 | OK | OK | WARNINGS | OK |  | ||||||
| merida2 | OS X 10.11.6 El Capitan / x86_64 | OK | OK | WARNINGS | OK | 
| Package: NTW | 
| Version: 1.33.0 | 
| Command: chmod a+r NTW -R && C:\Users\biocbuild\bbs-3.9-bioc\R\bin\R.exe CMD build --keep-empty-dirs --no-resave-data NTW | 
| StartedAt: 2019-04-08 21:24:28 -0400 (Mon, 08 Apr 2019) | 
| EndedAt: 2019-04-08 21:24:44 -0400 (Mon, 08 Apr 2019) | 
| EllapsedTime: 16.4 seconds | 
| RetCode: 0 | 
| Status: OK | 
| PackageFile: NTW_1.33.0.tar.gz | 
| PackageFileSize: 767.4 KiB | 
############################################################################## ############################################################################## ### ### Running command: ### ### chmod a+r NTW -R && C:\Users\biocbuild\bbs-3.9-bioc\R\bin\R.exe CMD build --keep-empty-dirs --no-resave-data NTW ### ############################################################################## ############################################################################## * checking for file 'NTW/DESCRIPTION' ... OK * preparing 'NTW': * checking DESCRIPTION meta-information ... OK * installing the package to build vignettes * creating vignettes ... OK * checking for LF line-endings in source and make files and shell scripts * checking for empty or unneeded directories * looking to see if a 'data/datalist' file should be added * building 'NTW_1.33.0.tar.gz'