| Back to Multiple platform build/check report for BioC 3.9 |
|
This page was generated on 2019-04-09 12:21:04 -0400 (Tue, 09 Apr 2019).
| Package 1083/1703 | Hostname | OS / Arch | INSTALL | BUILD | CHECK | BUILD BIN | ||||||
Xiaobei Zhao
| malbec2 | Linux (Ubuntu 18.04.2 LTS) / x86_64 | ERROR | ERROR | skipped | |||||||
| tokay2 | Windows Server 2012 R2 Standard / x64 | ERROR | [ ERROR ] | skipped | skipped | |||||||
| celaya2 | OS X 10.11.6 El Capitan / x86_64 | ERROR | ERROR | skipped | skipped | |||||||
| merida2 | OS X 10.11.6 El Capitan / x86_64 | ERROR | ERROR | skipped | skipped |
| Package: NGScopy |
| Version: 1.17.2 |
| Command: chmod a+r NGScopy -R && C:\Users\biocbuild\bbs-3.9-bioc\R\bin\R.exe CMD build --keep-empty-dirs --no-resave-data NGScopy |
| StartedAt: 2019-04-08 22:32:39 -0400 (Mon, 08 Apr 2019) |
| EndedAt: 2019-04-08 22:32:42 -0400 (Mon, 08 Apr 2019) |
| EllapsedTime: 3.5 seconds |
| RetCode: 1 |
| Status: ERROR |
| PackageFile: NGScopy_1.17.2.tar.gz |
| PackageFileSize: 1.78 MiB |
##############################################################################
##############################################################################
###
### Running command:
###
### chmod a+r NGScopy -R && C:\Users\biocbuild\bbs-3.9-bioc\R\bin\R.exe CMD build --keep-empty-dirs --no-resave-data NGScopy
###
##############################################################################
##############################################################################
* checking for file 'NGScopy/DESCRIPTION' ... OK
* preparing 'NGScopy':
* checking DESCRIPTION meta-information ... OK
* installing the package to build vignettes
-----------------------------------
ERROR: dependency 'rbamtools' is not available for package 'NGScopy'
* removing 'C:/Users/biocbuild/bbs-3.9-bioc/tmpdir/RtmpCofB6p/Rinst197c68494e29/NGScopy'
-----------------------------------
ERROR: package installation failed