| Back to Multiple platform build/check report for BioC 3.9 | 
 | 
This page was generated on 2019-04-09 13:37:14 -0400 (Tue, 09 Apr 2019).
| Package 1067/1703 | Hostname | OS / Arch | INSTALL | BUILD | CHECK | BUILD BIN | ||||||
| NBSplice 1.1.7 Gabriela Merino 
 | malbec2 | Linux (Ubuntu 18.04.2 LTS) / x86_64 | OK | OK | OK |  | ||||||
| tokay2 | Windows Server 2012 R2 Standard / x64 | OK | OK | ERROR | OK | |||||||
| celaya2 | OS X 10.11.6 El Capitan / x86_64 | OK | OK | WARNINGS | OK |  | ||||||
| merida2 | OS X 10.11.6 El Capitan / x86_64 | OK | OK | WARNINGS | [ OK ] | 
| Package: NBSplice | 
| Version: 1.1.7 | 
| Command: rm -rf NBSplice.buildbin-libdir && mkdir NBSplice.buildbin-libdir && /Users/biocbuild/BBS/utils/build-universal.sh NBSplice_1.1.7.tar.gz /Library/Frameworks/R.framework/Versions/Current/Resources/bin/R NBSplice.buildbin-libdir | 
| StartedAt: 2019-04-09 05:58:58 -0400 (Tue, 09 Apr 2019) | 
| EndedAt: 2019-04-09 06:00:09 -0400 (Tue, 09 Apr 2019) | 
| EllapsedTime: 70.9 seconds | 
| RetCode: 0 | 
| Status: OK | 
| PackageFile: NBSplice_1.1.7.tgz | 
| PackageFileSize: 1.089 MiB | 
############################################################################## ############################################################################## ### ### Running command: ### ### rm -rf NBSplice.buildbin-libdir && mkdir NBSplice.buildbin-libdir && /Users/biocbuild/BBS/utils/build-universal.sh NBSplice_1.1.7.tar.gz /Library/Frameworks/R.framework/Versions/Current/Resources/bin/R NBSplice.buildbin-libdir ### ############################################################################## ############################################################################## >>>>>>> >>>>>>> INSTALLATION WITH 'R CMD INSTALL --preclean --no-multiarch --library=NBSplice.buildbin-libdir NBSplice_1.1.7.tar.gz' >>>>>>> * installing *source* package ‘NBSplice’ ... ** R ** data ** inst ** byte-compile and prepare package for lazy loading ** help *** installing help indices ** building package indices ** installing vignettes ** testing if installed package can be loaded * DONE (NBSplice)